BEGIN:VCALENDAR
VERSION:2.0
PRODID:-//ChamberMaster//Event Calendar 2.0//EN
METHOD:PUBLISH
X-PUBLISHED-TTL:P3D
REFRESH-INTERVAL:P3D
CALSCALE:GREGORIAN
BEGIN:VEVENT
DTSTART:20221022T200000Z
DTEND:20221023T010000Z
X-MICROSOFT-CDO-ALLDAYEVENT:FALSE
SUMMARY:Fitchburg Mini Makers Market
DESCRIPTION:This is the big exciting super spooky halloween spectacular\, folks! We're gonna have spooky merch and products\, frighteningly good food and drinks\, and costumes of all kinds are welcome!\n\n\n\nFor those of you not in the know\, Delta Beer Lab is a small\, ambitious brewery in Fitchburg that's been fighting the good fight for a while.\n\n\n\nBetween raising money for causes they support to brewing and self-distributing beers that would be impressive for any legacy brewer\, DBL have been working hard since before the pandemic\, and I think they deserve some love.\n\nSo why not cart a bunch of local crafters and a few food trucks out there to have some fun?\n\n\n\nThis small event will\, like other MMM events feature a highly curated selection of local artisans and be hosted by a popular local establishment.\n\nLooking forward to seeing you all there!
X-ALT-DESC;FMTTYPE=text/html:This is the big exciting super spooky halloween spectacular\, folks! We&#39\;re gonna have spooky merch and products\, frighteningly good food and drinks\, and costumes of all kinds are welcome!<br />\n<br />\nFor those of you not in the know\, Delta Beer Lab is a small\, ambitious brewery in Fitchburg that&#39\;s been fighting the good fight for a while.<br />\n<br />\nBetween raising money for causes they support to brewing and self-distributing beers that would be impressive for any legacy brewer\, DBL have been working hard since before the pandemic\, and I think they deserve some love.<br />\nSo why not cart a bunch of local crafters and a few food trucks out there to have some fun?<br />\n<br />\nThis small event will\, like other MMM events feature a highly curated selection of local artisans and be hosted by a popular local establishment.<br />\nLooking forward to seeing you all there!
LOCATION:Delta Beer Lab 167 E. Badger Road\, Madison
UID:e.1970.2059
SEQUENCE:3
DTSTAMP:20260422T103138Z
URL:https://business.fitchburgchamber.com/events/details/fitchburg-mini-makers-market-2059
END:VEVENT

END:VCALENDAR
