BEGIN:VCALENDAR
VERSION:2.0
PRODID:-//ChamberMaster//Event Calendar 2.0//EN
METHOD:PUBLISH
X-PUBLISHED-TTL:P3D
REFRESH-INTERVAL:P3D
CALSCALE:GREGORIAN
BEGIN:VEVENT
DTSTART:20220618T200000Z
DTEND:20220619T010000Z
X-MICROSOFT-CDO-ALLDAYEVENT:FALSE
SUMMARY:Fitchburg Mini Makers Market
DESCRIPTION:For those of you not in the know\, Delta Beer Lab is a small\, ambitious brewery in Fitchburg that's been fighting the good fight for a while.\n\n\n\nBetween raising money for causes they support to brewing and self-distributing beers that would be impressive for any legacy brewer\, DBL have been working hard since before the pandemic\, and I think they deserve some love.\n\n\n\nSo why not cart a bunch of local crafters and a few food trucks out there to have some fun?\n\n\n\nThis small event will\, like other MMM events feature a highly curated selection of local artisans and be hosted by a popular local establishment.
X-ALT-DESC;FMTTYPE=text/html:For those of you not in the know\, Delta Beer Lab is a small\, ambitious brewery in Fitchburg that&#39\;s been fighting the good fight for a while.<br />\n<br />\nBetween raising money for causes they support to brewing and self-distributing beers that would be impressive for any legacy brewer\, DBL have been working hard since before the pandemic\, and I think they deserve some love.<br />\n<br />\nSo why not cart a bunch of local crafters and a few food trucks out there to have some fun?<br />\n<br />\nThis small event will\, like other MMM events feature a highly curated selection of local artisans and be hosted by a popular local establishment.
LOCATION:Delta Beer Lab 167 E. Badger Road\, Madison
UID:e.1970.1687
SEQUENCE:3
DTSTAMP:20260420T023214Z
URL:https://business.fitchburgchamber.com/events/details/fitchburg-mini-makers-market-1687
END:VEVENT

END:VCALENDAR
