BEGIN:VCALENDAR
VERSION:2.0
PRODID:-//ChamberMaster//Event Calendar 2.0//EN
METHOD:PUBLISH
X-PUBLISHED-TTL:P3D
REFRESH-INTERVAL:P3D
CALSCALE:GREGORIAN
BEGIN:VEVENT
DTSTART:20220616T170000Z
DTEND:20220618T210000Z
X-MICROSOFT-CDO-ALLDAYEVENT:FALSE
SUMMARY:Fitchburg Library Used Book Sale
DESCRIPTION:The Friends of the Fitchburg Library Used Book Sale will be held at the Fitchburg Library\, 5530 Lacy Road. Discover a wide variety of fiction\, non-fiction\, mystery\, children's books\, history\, travel\, health\, gardening and so much more at low prices.
X-ALT-DESC;FMTTYPE=text/html:The Friends of the Fitchburg Library Used Book Sale will be held at the Fitchburg Library\, 5530 Lacy Road. Discover a wide variety of fiction\, non-fiction\, mystery\, children&#39\;s books\, history\, travel\, health\, gardening and so much more at low prices.
LOCATION:5530 Lacy Road\, Fitchburg\, WI
UID:e.1970.1727
SEQUENCE:3
DTSTAMP:20260420T023620Z
URL:https://business.fitchburgchamber.com/events/details/fitchburg-library-used-book-sale-1727
END:VEVENT

END:VCALENDAR
