BEGIN:VCALENDAR
VERSION:2.0
PRODID:-//ChamberMaster//Event Calendar 2.0//EN
METHOD:PUBLISH
X-PUBLISHED-TTL:P3D
REFRESH-INTERVAL:P3D
CALSCALE:GREGORIAN
BEGIN:VEVENT
DTSTART:20230930T150000Z
DTEND:20230930T170000Z
X-MICROSOFT-CDO-ALLDAYEVENT:FALSE
SUMMARY:Fitchburg Farms: Spooky Succulent Workshop: Coffin-to-Garden Magic
DESCRIPTION:Step into Spooky Season with our "Spooky Succulent Workshop: Coffin-to-Garden Magic." Unleash your creativity as you repurpose a mini coffin into a captivating succulent planter that combines the macabre with the botanical. This workshop is perfect for plant enthusiasts\, DIY lovers\, and those seeking a spooky touch for their space.\n\nElegant Transformation: Explore the art of transformation as you breathe new life into a plastic coffin\, crafting an extraordinary succulent planter that exudes both mystery and beauty. Choose to keep the holographic clear look\, or learn to paint it like stone.\n\nSucculent Selection: Personalize your planter with two succulents of your choice\, curating a mini garden that mirrors your style and preferences.\n\nSpooky Decor: Infuse a touch of whimsy by adorning your planter with charming skeleton decorations\, adding a playful and distinctive charm.\n\nGreenery Guidance: Receive expert tips on planting and succulent care\, ensuring your plants flourish long after the workshop ends.\n\n$15 covers materials\, expert guidance and includes:\n\n  Plastic coffin ready for transformation\n\n  Two succulents to infuse life and color\n\n  Skeleton decorations for a spooky allure\n\n  Quality soil for optimal growth\n\n  Quick care information for ongoing maintenance
X-ALT-DESC;FMTTYPE=text/html:Step into Spooky Season with our &quot\;Spooky Succulent Workshop: Coffin-to-Garden Magic.&quot\; Unleash your creativity as you repurpose a mini coffin into a captivating succulent planter that combines the macabre with the botanical. This workshop is perfect for plant enthusiasts\, DIY lovers\, and those seeking a spooky touch for their space.<br />\nElegant Transformation: Explore the art of transformation as you breathe new life into a plastic coffin\, crafting an extraordinary succulent planter that exudes both mystery and beauty. Choose to keep the holographic clear look\, or learn to paint it like stone.<br />\nSucculent Selection: Personalize your planter with two succulents of your choice\, curating a mini garden that mirrors your style and preferences.<br />\nSpooky Decor: Infuse a touch of whimsy by adorning your planter with charming skeleton decorations\, adding a playful and distinctive charm.<br />\nGreenery Guidance: Receive expert tips on planting and succulent care\, ensuring your plants flourish long after the workshop ends.<br />\n$15 covers materials\, expert guidance and includes:<br />\n&#128128\; Plastic coffin ready for transformation<br />\n&#128128\; Two succulents to infuse life and color<br />\n&#128128\; Skeleton decorations for a spooky allure<br />\n&#128128\; Quality soil for optimal growth<br />\n&#128128\; Quick care information for ongoing maintenance
LOCATION:Fitchburg Farms 1830 County Road MM\, Fitchburg
UID:e.1970.3130
SEQUENCE:3
DTSTAMP:20260423T051314Z
URL:https://business.fitchburgchamber.com/events/details/fitchburg-farms-spooky-succulent-workshop-coffin-to-garden-magic-3130
END:VEVENT

END:VCALENDAR
