BEGIN:VCALENDAR
VERSION:2.0
PRODID:-//ChamberMaster//Event Calendar 2.0//EN
METHOD:PUBLISH
X-PUBLISHED-TTL:P3D
REFRESH-INTERVAL:P3D
CALSCALE:GREGORIAN
BEGIN:VEVENT
DTSTART:20191003T200000Z
DTEND:20191003T230000Z
X-MICROSOFT-CDO-ALLDAYEVENT:FALSE
SUMMARY:Fitchburg Farmers Market
DESCRIPTION:At the Fitchburg Farmers Market\, shoppers can find a host of Wisconsin grown produce\, fruits\, flowers\, cheese\, meats\, baked goods\, preserves and gluten-free items every Thursday\, from 3pm-6pm.\n\n\n\nThe market has on average 25 vendors from Southern Wisconsin. Watch for special events the third Thursday of every month!
X-ALT-DESC;FMTTYPE=text/html:At the Fitchburg Farmers Market\, shoppers can find a host of Wisconsin grown produce\, fruits\, flowers\, cheese\, meats\, baked goods\, preserves and gluten-free items every Thursday\, from 3pm-6pm.<br />\n<br />\nThe market has on average 25 vendors from Southern Wisconsin. Watch for special events the third Thursday of every month!&nbsp\;
LOCATION:The Agora\, 5500 E. Cheryl Parkway\, Fitchburg\, WI
UID:e.1970.299
SEQUENCE:3
DTSTAMP:20260420T190237Z
URL:https://business.fitchburgchamber.com/events/details/fitchburg-farmers-market-10-03-2019-299
END:VEVENT

END:VCALENDAR
