BEGIN:VCALENDAR
VERSION:2.0
PRODID:-//ChamberMaster//Event Calendar 2.0//EN
METHOD:PUBLISH
X-PUBLISHED-TTL:P3D
REFRESH-INTERVAL:P3D
CALSCALE:GREGORIAN
BEGIN:VEVENT
DTSTART:20200204T134500Z
DTEND:20200204T150000Z
X-MICROSOFT-CDO-ALLDAYEVENT:FALSE
SUMMARY:Fitchburg Business Before Nine - Free Digital Tools You Should Be Using But Probably Aren't
DESCRIPTION:For our February BB9\, we welcome Josh Klemons\, Digital Storyteller\, Strategist and the founder of Reverbal Communications\, for a presentation on Free Digital Tools You Should Be Using But Probably Aren't.\n\n\n\nHe has done digital work with local\, statewide and national political campaigns\, tiny non-profits\, Fortune 500 companies and everything in between. He writes\, teaches\, trains\, presents and consults regularly on social media\, digital marketing and ways brands can reach\, engage and expand their audiences online.\n\n\n\nHe serves as the President of the Board of Social Media Breakfast Madison\, and sits on the board of The Daily Cardinal and the Marketing Committee for the United Way of Dane County.\n\n\n\nHe's also the host of Step Up Your Social\, a podcast consisting of short episodes (~10 minutes or less) dedicated to quick\, actionable tips to help brands take their digital marketing to the next level. You can listen to all episodes at StepUpYourSocial.com\, or anywhere you listen to podcasts.\n\n\n\nHis motto is simple: You have a story... Let's tell it!\n\n\n\nBB9 is our monthly professional development/networking series. BB9 brings you the opportunity to network with other Chamber members and it provides you with valuable information to grow your business.\n\n\n\nIn addition to valuable face-to-face time\, we have a light breakfast buffet served.\n\n\n\nThis event is open to everyone\, free for chamber members and $25 for non members\; feel free to invite your colleagues\, preferred vendors and anyone you would like to introduce into your networking circle. BB9 takes place the first Tuesday of each month from 7:45am-9am at the Hawthorn Suites\, 5421 Caddis Bend\, Fitchburg.\n\n\n\nThank you to our BB9 Sponsors MG&E and Park Bank!
X-ALT-DESC;FMTTYPE=text/html:For our February BB9\, we welcome Josh Klemons\, Digital Storyteller\, Strategist and the founder of <strong><a href="https://www.joshklemons.com/">Reverbal Communications</a></strong>\, for a presentation on Free Digital Tools You Should Be Using But Probably Aren&#39\;t.<br />\n<br />\nHe has done digital work with local\, statewide and national political campaigns\, tiny non-profits\, Fortune 500 companies and everything in between. He writes\, teaches\, trains\, presents and consults regularly on social media\, digital marketing and ways brands can reach\, engage and expand their audiences online.<br />\n<br />\nHe serves as the President of the Board of Social Media Breakfast Madison\, and sits on the board of The Daily Cardinal and the Marketing Committee for the United Way of Dane County.<br />\n<br />\nHe&rsquo\;s also the host of Step Up Your Social\, a podcast consisting of short episodes (~10 minutes or less) dedicated to quick\, actionable tips to help brands take their digital marketing to the next level. You can listen to all episodes at StepUpYourSocial.com\, or anywhere you listen to podcasts.<br />\n<br />\nHis motto is simple: You have a story... Let&#39\;s tell it!<br />\n<br />\nBB9 is our monthly professional development/networking series. BB9 brings you the opportunity to network with other Chamber members and it provides you with valuable information to grow your business.<br />\n<br />\nIn addition to valuable face-to-face time\, we have a light breakfast buffet served.<br />\n<br />\nThis event is open to everyone\, free for chamber members and $25 for non members\; feel free to invite your colleagues\, preferred vendors and anyone you would like to introduce into your networking circle. BB9 takes place the first Tuesday of each month from 7:45am-9am at the Hawthorn Suites\, 5421 Caddis Bend\, Fitchburg.<br />\n<br />\nThank you to our BB9 Sponsors <strong><a href="https://www.mge.com/">MG&amp\;E</a></strong> and <strong><a href="https://www.parkbank.com/">Park Bank</a></strong>!
LOCATION:Hawthorn Suites\, 5421 Caddis Bend\, Fitchburg
UID:e.1970.450
SEQUENCE:3
DTSTAMP:20260420T062706Z
URL:https://business.fitchburgchamber.com/events/details/fitchburg-business-before-nine-free-digital-tools-you-should-be-using-but-probably-aren-t-450
END:VEVENT

END:VCALENDAR
