BEGIN:VCALENDAR
VERSION:2.0
PRODID:-//ChamberMaster//Event Calendar 2.0//EN
METHOD:PUBLISH
X-PUBLISHED-TTL:P3D
REFRESH-INTERVAL:P3D
CALSCALE:GREGORIAN
BEGIN:VEVENT
DTSTART:20200303T134500Z
DTEND:20200303T150000Z
X-MICROSOFT-CDO-ALLDAYEVENT:FALSE
SUMMARY:Fitchburg Business Before Nine - Candidate Forum
DESCRIPTION:Get to know your Fitchburg Mayor and Alder candidates at our March Fitchburg Business Before Nine! We will host a panel discussion with opportunities for members to ask questions and submit questions in advance. Help inform your voting decisions by attending the March BB9. \n\n\n\nBB9 is our monthly professional development/networking series. BB9 brings you the opportunity to network with other Chamber members and it provides you with valuable information to grow your business.\n\n\n\nIn addition to valuable face-to-face time\, we have a light breakfast buffet served.\n\n\n\nThank you to our BB9 Sponsors MG&E and Park Bank!
X-ALT-DESC;FMTTYPE=text/html:Get to know your Fitchburg Mayor and Alder candidates at our March Fitchburg Business Before Nine! We will host a panel discussion with opportunities for members to ask questions and submit questions in advance. Help inform your voting decisions by attending the March BB9.&nbsp\;<br />\n<br />\nBB9 is our monthly professional development/networking series. BB9 brings you the opportunity to network with other Chamber members and it provides you with valuable information to grow your business.<br />\n<br />\nIn addition to valuable face-to-face time\, we have a light breakfast buffet served.<br />\n<br />\nThank you to our BB9 Sponsors <strong><a href="https://www.mge.com/">MG&amp\;E</a></strong> and <strong><a href="https://www.parkbank.com/">Park Bank</a></strong>!
LOCATION:Hawthorn Suites\, 5421 Caddis Bend\, Fitchburg
UID:e.1970.452
SEQUENCE:3
DTSTAMP:20260422T103144Z
URL:https://business.fitchburgchamber.com/events/details/fitchburg-business-before-nine-candidate-forum-452
END:VEVENT

END:VCALENDAR
