BEGIN:VCALENDAR
VERSION:2.0
PRODID:-//ChamberMaster//Event Calendar 2.0//EN
METHOD:PUBLISH
X-PUBLISHED-TTL:P3D
REFRESH-INTERVAL:P3D
CALSCALE:GREGORIAN
BEGIN:VEVENT
DTSTART:20230125T000000Z
DTEND:20230125T010000Z
X-MICROSOFT-CDO-ALLDAYEVENT:FALSE
SUMMARY:First Time Home Seller Workshop
DESCRIPTION:Join the Welcome Home Collective for a First Time Home Seller Workshop at Delta Beer Lab! \n\n\n\nFree and open to all!\n\n\n\nDrinks and appetizers will be provided.
X-ALT-DESC;FMTTYPE=text/html:Join the Welcome Home Collective for a First Time Home Seller Workshop at Delta Beer Lab!&nbsp\;<br />\n<br />\nFree and open to all!<br />\n<br />\nDrinks and appetizers will be provided.
LOCATION:Delta Beer Lab 167 E Badger Rd Madison\, WI 53713
UID:e.1970.2749
SEQUENCE:3
DTSTAMP:20260422T135243Z
URL:https://business.fitchburgchamber.com/events/details/first-time-home-seller-workshop-2749
END:VEVENT

END:VCALENDAR
