BEGIN:VCALENDAR
VERSION:2.0
PRODID:-//ChamberMaster//Event Calendar 2.0//EN
METHOD:PUBLISH
X-PUBLISHED-TTL:P3D
REFRESH-INTERVAL:P3D
CALSCALE:GREGORIAN
BEGIN:VEVENT
DTSTART:20230919T203000Z
DTEND:20230919T233000Z
X-MICROSOFT-CDO-ALLDAYEVENT:FALSE
SUMMARY:Fall 2023 Promega Art Showcase Opening Reception
DESCRIPTION:The Promega Fall Art Showcase will honor the life of Truman Lowe\, a visionary artist\, mentor and art professor. The exhibition will feature sculptures by Lowe alongside works by several of his former students. The Fall Art Showcase opens on September 19\, 2023.\n\n\n\nExhibiting Artists\n\nSarah McRae\n\nKaren Goulet\n\nChloris Lowe\n\nTom Jones\n\nJoe Feddersen\n\nJohn Hitchcock\n\n\n\nThe opening symposium will feature guest speakers Patricia Marroquin Norby and Jo Ortel. Norby is the Associate Curator of Native American Art at the Metropolitan Museum of Art\, and the first person of Indigenous descent hired for a full-time curatorial position in the museum's 150-year history. Jo Ortel is an author\, art historian\, and Professor Emerita of Art History of Beloit College.\n\n\n\nThe reception will feature traditional Ho-Chunk food based on recipes provided by Chef Elena Terry of the culinary organization Wild Bearies. Music will be provided by Felix Sainz\, Jr. Promega is collaborating with the Little Eagle Arts Foundation for this event.
X-ALT-DESC;FMTTYPE=text/html:The Promega Fall Art Showcase will honor the life of Truman Lowe\, a visionary artist\, mentor and art professor. The exhibition will feature sculptures by Lowe alongside works by several of his former students. The Fall Art Showcase opens on September 19\, 2023.<br />\n<br />\nExhibiting Artists<br />\nSarah McRae<br />\nKaren Goulet<br />\nChloris Lowe<br />\nTom Jones<br />\nJoe Feddersen<br />\nJohn Hitchcock<br />\n<br />\nThe opening symposium will feature guest speakers Patricia Marroquin Norby and Jo Ortel. Norby is the Associate Curator of Native American Art at the Metropolitan Museum of Art\, and the first person of Indigenous descent hired for a full-time curatorial position in the museum&rsquo\;s 150-year history. Jo Ortel is an author\, art historian\, and Professor Emerita of Art History of Beloit College.<br />\n<br />\nThe reception will feature traditional Ho-Chunk food based on recipes provided by Chef Elena Terry of the culinary organization Wild Bearies. Music will be provided by Felix Sainz\, Jr. Promega is collaborating with the Little Eagle Arts Foundation for this event.
LOCATION:Promega BioPharmaceutical Technology Center 5445 East Cheryl Parkway\, Fitchburg
UID:e.1970.3128
SEQUENCE:3
DTSTAMP:20260423T050823Z
URL:https://business.fitchburgchamber.com/events/details/fall-2023-promega-art-showcase-opening-reception-3128
END:VEVENT

END:VCALENDAR
