BEGIN:VCALENDAR
VERSION:2.0
PRODID:-//ChamberMaster//Event Calendar 2.0//EN
METHOD:PUBLISH
X-PUBLISHED-TTL:P3D
REFRESH-INTERVAL:P3D
CALSCALE:GREGORIAN
BEGIN:VEVENT
DTSTART:20220922T203000Z
DTEND:20220923T000000Z
X-MICROSOFT-CDO-ALLDAYEVENT:FALSE
SUMMARY:Fall 2022 Promega Art Showcase Opening Reception
DESCRIPTION:The 2022 Promega Fall Art Showcase will feature photography from the PhotoMidwest Festival. The 12th Biennial juried exhibition will include the work of photographers in the Midwest. Aline Smithson serves as juror\, featured speaker and workshop instructor. Aline is a visual artist\, editor\, educator and Founder and Editor-in-Chief of Lenscratch.
X-ALT-DESC;FMTTYPE=text/html:The 2022 Promega Fall Art Showcase will feature photography from the PhotoMidwest Festival. The 12th Biennial juried exhibition will include the work of photographers in the Midwest. Aline Smithson serves as juror\, featured speaker and workshop instructor. Aline is a visual artist\, editor\, educator and Founder and Editor-in-Chief of Lenscratch.
LOCATION:Promega BioPharmaceutical Technology Center 5445 East Cheryl Parkway\, Fitchburg
UID:e.1970.2066
SEQUENCE:3
DTSTAMP:20260422T090226Z
URL:https://business.fitchburgchamber.com/events/details/fall-2022-promega-art-showcase-opening-reception-2066
END:VEVENT

END:VCALENDAR
