BEGIN:VCALENDAR
VERSION:2.0
PRODID:-//ChamberMaster//Event Calendar 2.0//EN
METHOD:PUBLISH
X-PUBLISHED-TTL:P3D
REFRESH-INTERVAL:P3D
CALSCALE:GREGORIAN
BEGIN:VEVENT
DTSTART:20211119T000000Z
DTEND:20211119T020000Z
X-MICROSOFT-CDO-ALLDAYEVENT:FALSE
SUMMARY:Edgewood College Wellness Campus Listening Session
DESCRIPTION:Edgewood College is planning the development of a Wellness Campus at the Southwest Corner of Lacy Road and Seminole Highway in Fitchburg. Hear more about this exciting opportunity for the City of Fitchburg and share your thoughts regarding the project at their upcoming listening sessions. This event will be held at the Hop Haus Brewing Company in Fitchburg\, and will begin at 6pm. All are welcome to attend.
X-ALT-DESC;FMTTYPE=text/html:Edgewood College is planning the development of a Wellness Campus at the Southwest Corner of Lacy Road and Seminole Highway in Fitchburg. Hear more about this exciting opportunity for the City of Fitchburg and share your thoughts regarding the project at their upcoming listening sessions. This event will be held at the Hop Haus Brewing Company in Fitchburg\, and will begin at 6pm. All are welcome to attend.
LOCATION:Hop Haus Brewing Co. 2975 Sub-Zero Pkwy\, Fitchburg\, WI 53719
UID:e.1970.1369
SEQUENCE:3
DTSTAMP:20260419T162351Z
URL:https://business.fitchburgchamber.com/events/details/edgewood-college-wellness-campus-listening-session-1369
END:VEVENT

END:VCALENDAR
