BEGIN:VCALENDAR
VERSION:2.0
PRODID:-//ChamberMaster//Event Calendar 2.0//EN
METHOD:PUBLISH
X-PUBLISHED-TTL:P3D
REFRESH-INTERVAL:P3D
CALSCALE:GREGORIAN
BEGIN:VEVENT
DTSTART:20220330T170000Z
DTEND:20220330T180000Z
X-MICROSOFT-CDO-ALLDAYEVENT:FALSE
SUMMARY:DreamBank: Women's History\, Present and Future: A Talk with Emily Chang
DESCRIPTION:Join us in celebration of Women's Herstory Month as we sit down for a conversation with Emily Chang\, award-winning journalist and author\n\n\n\nAbout this event\n\nJoin us in celebration of Women's Herstory Month as we sit down for a conversation with Emily Chang\, Emmy Award-winning journalist\, anchor and executive producer at Bloomberg TV and author of the national bestseller\, "Brotopia: Breaking Up the Boys' Club of Silicon Valley." In this talk moderated by American Family Insurance DreamBank Manager\, Natalie Healy\, Emily will touch on topics such as the Global Women's Movement\, women in business\, work-life balance\, ways that anyone can support women\, her own dream pursuit and advice for others who are pursuing their own dreams.\n\n\n\nEmily Chang is a five-time regional Emmy award winner born and raised in Kailua\, Hawaii. She graduated magna cum laude from Harvard University and began her career as a news producer at NBC in New York. Emily went on to serve as a reporter at KNSD\, NBC's affiliate in San Diego\, California. Today\, she's an executive producer and host of the daily Bloomberg Technology show and the interview series Studio 1.0. Emily also sits on the board of BUILD\, a national non-profit organization that uses entrepreneurship to excite and propel disengaged\, low-income students through high school to college success.
X-ALT-DESC;FMTTYPE=text/html:<br />\n<br />\n<strong>Join us in celebration of Women&#39\;s Herstory Month as we sit down for a conversation with Emily Chang\, award-winning journalist and author<br />\n<br />\nAbout this event</strong><br />\nJoin us in celebration of Women&#39\;s Herstory Month as we sit down for a conversation with Emily Chang\, Emmy Award-winning journalist\, anchor and executive producer at Bloomberg TV and author of the national bestseller\, &ldquo\;Brotopia: Breaking Up the Boys&rsquo\; Club of Silicon Valley.&rdquo\; In this talk moderated by American Family Insurance DreamBank Manager\, Natalie Healy\, Emily will touch on topics such as the Global Women&#39\;s Movement\, women in business\, work-life balance\, ways that anyone can support women\, her own dream pursuit and advice for others who are pursuing their own dreams.<br />\n<br />\nEmily Chang is a five-time regional Emmy award winner born and raised in Kailua\, Hawaii. She graduated magna cum laude from Harvard University and began her career as a news producer at NBC in New York. Emily went on to serve as a reporter at KNSD\, NBC&rsquo\;s affiliate in San Diego\, California. Today\, she&rsquo\;s an executive producer and host of the daily Bloomberg Technology show and the interview series Studio 1.0. Emily also sits on the board of BUILD\, a national non-profit organization that uses entrepreneurship to excite and propel disengaged\, low-income students through high school to college success.
LOCATION:Online Event Register Here
UID:e.1970.1637
SEQUENCE:3
DTSTAMP:20260419T231626Z
URL:https://business.fitchburgchamber.com/events/details/dreambank-women-s-history-present-and-future-a-talk-with-emily-chang-1637
END:VEVENT

END:VCALENDAR
