BEGIN:VCALENDAR
VERSION:2.0
PRODID:-//ChamberMaster//Event Calendar 2.0//EN
METHOD:PUBLISH
X-PUBLISHED-TTL:P3D
REFRESH-INTERVAL:P3D
CALSCALE:GREGORIAN
BEGIN:VEVENT
DTSTART:20220316T170000Z
DTEND:20220316T180000Z
X-MICROSOFT-CDO-ALLDAYEVENT:FALSE
SUMMARY:DreamBank: Little John's - Feel Good Food for All
DESCRIPTION:Everyone deserves feel-good food made with love\, yet so many lack access to nourishing food for the body and soul.\n\n\n\nAbout this event\n\nEveryone deserves feel-good food made with love\, yet so many lack access to nourishing food for the body and soul. We know there's more than enough food to feed everyone   the issue lies within distribution. Join Chef Dave Heide\, known as "Madison's most philanthropic chef" with classical training from Le Cordon Bleu\, to learn how his nonprofit and the "pay-what-you-can" model at Little John's helps create a more equitable local food system. You'll leave inspired with a whole new outlook on how to support your community.
X-ALT-DESC;FMTTYPE=text/html:<br />\n<br />\n<strong>Everyone deserves feel-good food made with love\, yet so many lack access to nourishing food for the body and soul.</strong><br />\n<br />\n<strong>About this event</strong><br />\nEveryone deserves feel-good food made with love\, yet so many lack access to nourishing food for the body and soul. We know there&rsquo\;s more than enough food to feed everyone &mdash\; the issue lies within distribution. Join Chef Dave Heide\, known as &ldquo\;Madison&rsquo\;s most philanthropic chef&rdquo\; with classical training from Le Cordon Bleu\, to learn how his nonprofit and the &ldquo\;pay-what-you-can&rdquo\; model at Little John&rsquo\;s helps create a more equitable local food system. You&rsquo\;ll leave inspired with a whole new outlook on how to support your community.
LOCATION:Online Event Register Here
UID:e.1970.1634
SEQUENCE:3
DTSTAMP:20260419T213447Z
URL:https://business.fitchburgchamber.com/events/details/dreambank-little-john-s-feel-good-food-for-all-1634
END:VEVENT

END:VCALENDAR
