BEGIN:VCALENDAR
VERSION:2.0
PRODID:-//ChamberMaster//Event Calendar 2.0//EN
METHOD:PUBLISH
X-PUBLISHED-TTL:P3D
REFRESH-INTERVAL:P3D
CALSCALE:GREGORIAN
BEGIN:VEVENT
DTSTART:20220315T170000Z
DTEND:20220315T173000Z
X-MICROSOFT-CDO-ALLDAYEVENT:FALSE
SUMMARY:DreamBank: Five Ways to Improve Your Website Conversion
DESCRIPTION:Looking to get people to your website AND keep them there?\n\n\n\nAbout this event\n\nLooking to get people to your website AND keep them there? Join Joey Donovan Guido\, owner of Cuppa SEO Web Design and author of "A Holistic Guide to Online Marketing\," as he shares five ways to improve the conversion methodology on your website\, including website conversion on your homepage\, web design and the art of conversion. Together\, you'll go through the dos and don'ts of webpage optimization to help you reach your business goals!
X-ALT-DESC;FMTTYPE=text/html:<br />\n<strong>Looking to get people to your website AND keep them there?</strong><br />\n<br />\n<strong>About this event</strong><br />\nLooking to get people to your website AND keep them there? Join Joey Donovan Guido\, owner of Cuppa SEO Web Design and author of &ldquo\;A Holistic Guide to Online Marketing\,&rdquo\; as he shares five ways to improve the conversion methodology on your website\, including website conversion on your homepage\, web design and the art of conversion. Together\, you&rsquo\;ll go through the dos and don&rsquo\;ts of webpage optimization to help you reach your business goals!
LOCATION:Online Event Register Here
UID:e.1970.1633
SEQUENCE:3
DTSTAMP:20260419T212653Z
URL:https://business.fitchburgchamber.com/events/details/dreambank-five-ways-to-improve-your-website-conversion-1633
END:VEVENT

END:VCALENDAR
