BEGIN:VCALENDAR
VERSION:2.0
PRODID:-//ChamberMaster//Event Calendar 2.0//EN
METHOD:PUBLISH
X-PUBLISHED-TTL:P3D
REFRESH-INTERVAL:P3D
CALSCALE:GREGORIAN
BEGIN:VEVENT
DTSTART:20220503T170000Z
DTEND:20220503T180000Z
X-MICROSOFT-CDO-ALLDAYEVENT:FALSE
SUMMARY:DreamBank Dream Academy: Embracing Your Purpose(5 of 5)
DESCRIPTION:In this 5-week course\, you'll explore a journey designed to help you claim your power and live a life full of intention and contentment.\n\n\n\nAbout this event\n\nYour purpose is your roadmap to a more meaningful life - a life that provides you with more energy\, joy and dreams. We're thrilled to have you join us in this enlightening course that will explore a journey designed to help you claim your power and live a life full of intention and contentment.\n\n\n\nWe've teamed up with author\, speaker and professor\, Christine B. Whelan\, Ph.D.\, to take the research she's conducted and written to bring you these activities and insights for this Dream Academy course. Dr. Whelan is a clinical professor in the school of Human Ecology at the University of Wisconsin-Madison\, where she is fondly known as "The Happy Professor." Together\, we'll dive into a new approach to understanding what living on purpose means to you. Let's get started!\n\n\n\n**Before signing up\, please be sure you are able to commit to attending all five sessions**\n\n\n\nCourse Schedule:\n\n	Tuesday\, April 5\, Noon-1 pm CT\n	Tuesday\, April 12\, Noon-1 pm CT\n	Tuesday\, April 19\, Noon-1 pm CT\n	Tuesday\, April 26\, Noon-1 pm CT\n	Tuesday\, May 3\, Noon-1 pm CT
X-ALT-DESC;FMTTYPE=text/html:<br />\n<br />\n<strong>In this 5-week course\, you&#39\;ll explore a journey designed to help you claim your power and live a life full of intention and contentment.</strong><br />\n<br />\n<strong>About this event</strong><br />\nYour purpose is your roadmap to a more meaningful life - a life that provides you with more energy\, joy and dreams. We&#39\;re thrilled to have you join us in this enlightening<em> </em><strong>course that will explore a journey designed to help you claim your power and live a life full of intention and contentment.</strong><br />\n<br />\nWe&#39\;ve teamed up with <strong>author\, speaker and professor\, Christine B. Whelan\, Ph.D.</strong>\, to take the research she&#39\;s conducted and written to bring you these activities and insights for this Dream Academy course. Dr. Whelan is a clinical professor in the school of Human Ecology at the University of Wisconsin-Madison\, where she is fondly known as &quot\;The Happy Professor.&quot\; Together\, we&#39\;ll dive into a new approach to understanding what living on purpose means to you. <strong>Let&#39\;s get started!</strong><br />\n<br />\n**Before signing up\, please be sure you are able to commit to attending all five sessions**<br />\n<br />\nCourse Schedule:\n<ul>\n	<li>Tuesday\, April 5\, Noon-1 pm CT</li>\n	<li>Tuesday\, April 12\, Noon-1 pm CT</li>\n	<li>Tuesday\, April 19\, Noon-1 pm CT</li>\n	<li>Tuesday\, April 26\, Noon-1 pm CT</li>\n	<li>Tuesday\, May 3\, Noon-1 pm CT</li>\n</ul>\n
LOCATION:Online Event Register Here
UID:e.1970.1632
SEQUENCE:3
DTSTAMP:20260420T023812Z
URL:https://business.fitchburgchamber.com/events/details/dreambank-dream-academy-embracing-your-purpose-5-of-5-1632
END:VEVENT

END:VCALENDAR
