BEGIN:VCALENDAR
VERSION:2.0
PRODID:-//ChamberMaster//Event Calendar 2.0//EN
METHOD:PUBLISH
X-PUBLISHED-TTL:P3D
REFRESH-INTERVAL:P3D
CALSCALE:GREGORIAN
BEGIN:VEVENT
DTSTART:20220323T170000Z
DTEND:20220323T180000Z
X-MICROSOFT-CDO-ALLDAYEVENT:FALSE
SUMMARY:DreamBank: Creating a Culture of Safety and the Free Flow of Information
DESCRIPTION:Join us and learn about the Think\, Talk\, Act\, Sustain Framework   an approach that helps promote trust\, and the free flow of communication.\n\n\n\nAbout this event\n\nWhether you're looking to create a safe space in the workplace\, at home or among friends\, cultivating a culture that welcomes open communication\, authenticity and inclusion is a goal most of us strive to accomplish. Join David Bray\, retired Madison Metropolitan School District administrator and current CEO of Dave Bray Consulting\, to learn how to facilitate this type of culture through his unique experiences and the Think\, Talk\, Act\, Sustain Framework   a proven approach that helps promote trust\, purpose and the free flow of communication within our relationships. You'll leave this presentation ready to make simple shifts in your mindset and actions to create meaningful change in your life.
X-ALT-DESC;FMTTYPE=text/html:<br />\n<br />\n<strong>Join us and learn about the Think\, Talk\, Act\, Sustain Framework &mdash\; an approach that helps promote trust\, and the free flow of communication.</strong><br />\n<br />\n<strong>About this event</strong><br />\nWhether you&rsquo\;re looking to create a safe space in the workplace\, at home or among friends\, cultivating a culture that welcomes open communication\, authenticity and inclusion is a goal most of us strive to accomplish. Join David Bray\, retired Madison Metropolitan School District administrator and current CEO of Dave Bray Consulting\, to learn how to facilitate this type of culture through his unique experiences and the Think\, Talk\, Act\, Sustain Framework &mdash\; a proven approach that helps promote trust\, purpose and the free flow of communication within our relationships. You&rsquo\;ll leave this presentation ready to make simple shifts in your mindset and actions to create meaningful change in your life.
LOCATION:Online Event Register Here
UID:e.1970.1636
SEQUENCE:3
DTSTAMP:20260419T231626Z
URL:https://business.fitchburgchamber.com/events/details/dreambank-creating-a-culture-of-safety-and-the-free-flow-of-information-1636
END:VEVENT

END:VCALENDAR
