BEGIN:VCALENDAR
VERSION:2.0
PRODID:-//ChamberMaster//Event Calendar 2.0//EN
METHOD:PUBLISH
X-PUBLISHED-TTL:P3D
REFRESH-INTERVAL:P3D
CALSCALE:GREGORIAN
BEGIN:VEVENT
DTSTART:20220316T003000Z
DTEND:20220316T020000Z
X-MICROSOFT-CDO-ALLDAYEVENT:FALSE
SUMMARY:Drag Queen Bingo w/ Kendra Banx$
DESCRIPTION:The very fabulous Kendra Banx$ will be calling numbers for Drag Queen Bingo at Delta Beer Lab!\n\n\n\n$5 per bingo card with prizes of at least a $20 value! Gather your friends and grab a stool to play!\n\n\n\nKendra Banx$ has been performing as one of Madison's most enjoyed drag queens for almost a decade\, and has held prior titles for Miss Gay WI USofA 2017\, Miss Gay Madison 2016\, Miss Gay Isthmus USofA 2015\, Miss Gay Softball 2012.\n\n\n\nThis is a first come\, first served event\, so get here early to secure your seat.\n\nProof of vaccination required for entry - your card\, a picture of your card\, or a negative covid test within the past 72 hours. Masks are required inside when ordering and moving around the taproom.
X-ALT-DESC;FMTTYPE=text/html:The very fabulous Kendra Banx$ will be calling numbers for Drag Queen Bingo at Delta Beer Lab!<br />\n<br />\n$5 per bingo card with prizes of at least a $20 value! Gather your friends and grab a stool to play!<br />\n<br />\nKendra Banx$ has been performing as one of Madison&#39\;s most enjoyed drag queens for almost a decade\, and has held prior titles for Miss Gay WI USofA 2017\, Miss Gay Madison 2016\, Miss Gay Isthmus USofA 2015\, Miss Gay Softball 2012.<br />\n<br />\nThis is a first come\, first served event\, so get here early to secure your seat.<br />\nProof of vaccination required for entry - your card\, a picture of your card\, or a negative covid test within the past 72 hours. Masks are required inside when ordering and moving around the taproom.
LOCATION:Delta Beer Lab 167 E. Badger Road\, Madison
UID:e.1970.1662
SEQUENCE:3
DTSTAMP:20260419T231306Z
URL:https://business.fitchburgchamber.com/events/details/drag-queen-bingo-w-kendra-banx-1662
END:VEVENT

END:VCALENDAR
