BEGIN:VCALENDAR
VERSION:2.0
PRODID:-//ChamberMaster//Event Calendar 2.0//EN
METHOD:PUBLISH
X-PUBLISHED-TTL:P3D
REFRESH-INTERVAL:P3D
CALSCALE:GREGORIAN
BEGIN:VEVENT
DTSTART:20240909T230000Z
DTEND:20240910T010000Z
X-MICROSOFT-CDO-ALLDAYEVENT:FALSE
SUMMARY:Drag Queen Bingo Fundraiser - Morgan's Caring Connection
DESCRIPTION:Join Morgan's Caring Connection for a night of Drag Queen Bingo at 5th Quarter Sports Bar & Grill in Verona! Grab a bite to eat or just some drinks\, have some laughs\, play some bingo and donate $5 to MCC for a 10th sheet of blackout bingo! If you haven't been here for the event\, you should try it and don't forget to make your reservations as it's a sold out event every month. Call 608-845-9690 to reserve your table today! See you there!
X-ALT-DESC;FMTTYPE=text/html:<span style="color: rgb(5\, 5\, 5)\; font-family: &quot\;Segoe UI Historic&quot\;\, &quot\;Segoe UI&quot\;\, Helvetica\, Arial\, sans-serif\; font-size: 15px\;">Join Morgan&#39\;s Caring Connection for a night of Drag Queen Bingo at 5th Quarter Sports Bar &amp\; Grill in Verona! Grab a bite to eat or just some drinks\, have some laughs\, play some bingo and donate $5 to MCC for a 10th sheet of blackout bingo! If you haven&#39\;t been here for the event\, you should try it and don&#39\;t forget to make your reservations as it&#39\;s a sold out event every month. Call 608-845-9690 to reserve your table today! See you there!</span>
LOCATION:5th Quarter Sports Bar & Grill 161 Horizon Dr\, Verona\, WI
UID:e.1970.6247
SEQUENCE:3
DTSTAMP:20260422T174331Z
URL:https://business.fitchburgchamber.com/events/details/drag-queen-bingo-fundraiser-morgan-s-caring-connection-6247
END:VEVENT

END:VCALENDAR
