BEGIN:VCALENDAR
VERSION:2.0
PRODID:-//ChamberMaster//Event Calendar 2.0//EN
METHOD:PUBLISH
X-PUBLISHED-TTL:P3D
REFRESH-INTERVAL:P3D
CALSCALE:GREGORIAN
BEGIN:VEVENT
DTSTART:20230509T220000Z
DTEND:20230510T020000Z
X-MICROSOFT-CDO-ALLDAYEVENT:FALSE
SUMMARY:Designer Purse Wacko
DESCRIPTION:Join us for your chance to win a Designer Purse at our Purse Wacko (our version of Bingo\, just more fun)! 8 games with chance to win Coach\, Dooney and Bourke\, Michael Kors or Kate Spade designer purses and designer mens wallets. We will also have an additional raffle for a chance to win more purses or wallets. Money raised from Purse Wacko goes towards the VFW Post 1318 Community Assistance Fund helping local Veterans.
X-ALT-DESC;FMTTYPE=text/html:Join us for your chance to win a Designer Purse at our Purse Wacko (our version of Bingo\, just more fun)! 8 games with chance to win Coach\, Dooney and Bourke\, Michael Kors or Kate Spade designer purses and designer mens wallets. We will also have an additional raffle for a chance to win more purses or wallets. Money raised from Purse Wacko goes towards the VFW Post 1318 Community Assistance Fund helping local Veterans.
LOCATION:2740 Ski Lane
UID:e.1970.2864
SEQUENCE:3
DTSTAMP:20260422T222019Z
URL:https://business.fitchburgchamber.com/events/details/designer-purse-wacko-2864
END:VEVENT

END:VCALENDAR
