BEGIN:VCALENDAR
VERSION:2.0
PRODID:-//ChamberMaster//Event Calendar 2.0//EN
METHOD:PUBLISH
X-PUBLISHED-TTL:P3D
REFRESH-INTERVAL:P3D
CALSCALE:GREGORIAN
BEGIN:VEVENT
DTSTART:20231017T223000Z
DTEND:20231018T020000Z
X-MICROSOFT-CDO-ALLDAYEVENT:FALSE
SUMMARY:Designer Purse Wacko
DESCRIPTION:Join us for Designer Purse WACKO (our version of BINGO). $25 gets you the chance to win designer purses from Coach\, Kate Spade\, Michael Kors\, Dooney and Bourke\, etc. We play 8 games and have raffles through out. Your $25 will give you WACKO cards for the 8 games. Spots limited\, preregister to save your spot by signing up/paying at VFW Post 1318 or text/email Jamie Herrmann to Venmo or PayPal: 608-516-8079 / jamieherrmann3@gmail.com Money Raised goes is donated to VFW Post 1318.
X-ALT-DESC;FMTTYPE=text/html:Join us for Designer Purse WACKO (our version of BINGO). $25 gets you the chance to win designer purses from Coach\, Kate Spade\, Michael Kors\, Dooney and Bourke\, etc. We play 8 games and have raffles through out. Your $25 will give you WACKO cards for the 8 games. Spots limited\, preregister to save your spot by signing up/paying at VFW Post 1318 or text/email Jamie Herrmann to Venmo or PayPal: 608-516-8079 / jamieherrmann3@gmail.com Money Raised goes is donated to VFW Post 1318.
LOCATION:VFW Post 1318\, 2740 Ski Lane
UID:e.1970.3140
SEQUENCE:3
DTSTAMP:20260423T065147Z
URL:https://business.fitchburgchamber.com/events/details/designer-purse-wacko-10-17-2023-3140
END:VEVENT

END:VCALENDAR
