BEGIN:VCALENDAR
VERSION:2.0
PRODID:-//ChamberMaster//Event Calendar 2.0//EN
METHOD:PUBLISH
X-PUBLISHED-TTL:P3D
REFRESH-INTERVAL:P3D
CALSCALE:GREGORIAN
BEGIN:VEVENT
DTSTART:20260210T233000Z
DTEND:20260211T023000Z
X-MICROSOFT-CDO-ALLDAYEVENT:FALSE
SUMMARY:Designer Purse Wacko
DESCRIPTION:WACKO will start at 6 pm\, registration starts at 5:30 pm Cost: $25 (all 8 games included) Early Registration Bonus: Register by 1/31/2026 and get 1 FREE game card for all 8 games Designer purses for winners Extra cards & extra purse raffles available V opens at 11 AM Full bar & kitchen open   come early for food\, drinks\, and the best seats! Register: Cash at the VFW (with bartender) Text Jamie at 608-516-8079 for Venmo/PayPal
X-ALT-DESC;FMTTYPE=text/html:WACKO will start at 6 pm\, registration starts at 5:30 pm Cost: $25 (all 8 games included) Early Registration Bonus: Register by 1/31/2026 and get 1 FREE game card for all 8 games Designer purses for winners Extra cards &amp\; extra purse raffles available V opens at 11 AM Full bar &amp\; kitchen open &mdash\; come early for food\, drinks\, and the best seats! Register: Cash at the VFW (with bartender) Text Jamie at 608-516-8079 for Venmo/PayPal
LOCATION:2740 Ski Lane
UID:e.1970.10903
SEQUENCE:3
DTSTAMP:20260424T224442Z
URL:https://business.fitchburgchamber.com/events/details/designer-purse-wacko-02-10-2026-10903
END:VEVENT

END:VCALENDAR
