BEGIN:VCALENDAR
VERSION:2.0
PRODID:-//ChamberMaster//Event Calendar 2.0//EN
METHOD:PUBLISH
X-PUBLISHED-TTL:P3D
REFRESH-INTERVAL:P3D
CALSCALE:GREGORIAN
BEGIN:VEVENT
DTSTART:20240124T000000Z
DTEND:20240124T023000Z
X-MICROSOFT-CDO-ALLDAYEVENT:FALSE
SUMMARY:Designer Purse Wacko
DESCRIPTION:Don't let the winter blues get you down! Join us for Designer Purse Wacko. The first 30 people to sign up/pay will receive an extra WACKO card for FREE for all 8 games. If you would like to sign up\, please go to the VFW Post 1318 or text /Call Jamie Herrmann 608-516-8079 For people who have parties of 5 or more\, please let us know so we can reserve you a table. We will have 8 WACKO games. Food and Beverages will be available for purchase.
X-ALT-DESC;FMTTYPE=text/html:Don&#39\;t let the winter blues get you down! Join us for Designer Purse Wacko. The first 30 people to sign up/pay will receive an extra WACKO card for FREE for all 8 games. If you would like to sign up\, please go to the VFW Post 1318 or text /Call Jamie Herrmann 608-516-8079 For people who have parties of 5 or more\, please let us know so we can reserve you a table. We will have 8 WACKO games. Food and Beverages will be available for purchase.
LOCATION:VFW Post 1318 2740 Ski Lane
UID:e.1970.3281
SEQUENCE:3
DTSTAMP:20260423T114428Z
URL:https://business.fitchburgchamber.com/events/details/designer-purse-wacko-01-23-2024-3281
END:VEVENT

END:VCALENDAR
