BEGIN:VCALENDAR
VERSION:2.0
PRODID:-//ChamberMaster//Event Calendar 2.0//EN
METHOD:PUBLISH
X-PUBLISHED-TTL:P3D
REFRESH-INTERVAL:P3D
CALSCALE:GREGORIAN
BEGIN:VEVENT
DTSTART:20231021T200000Z
DTEND:20231022T010000Z
X-MICROSOFT-CDO-ALLDAYEVENT:FALSE
SUMMARY:DeltaWeen - Madison Makers Market
DESCRIPTION:This is the big exciting super spooky Halloween spectacular\, folks! We're gonna have spooky merch and products\, frighteningly good food and drinks\, and costumes of all kinds are welcome!\n\nFor those of you not in the know\, Delta Beer Lab is a small\, ambitious brewery in Fitchburg that's been fighting the good fight for a while.\n\nSo why not cart a bunch of local crafters and a few food trucks out there to have some fun?\n\nThis small event will\, like other MMM events feature a highly curated selection of local artisans and be hosted by a popular local establishment.\n\nLooking forward to seeing you all there!\n\nENTERTAINMENT----\n\nMediums\n\nFace Painting\n\nCostumes\n\nTrick or Treating\n\nKids Crafting Corner\n\nMusic
X-ALT-DESC;FMTTYPE=text/html:This is the big exciting super spooky Halloween spectacular\, folks! We&#39\;re gonna have spooky merch and products\, frighteningly good food and drinks\, and costumes of all kinds are welcome!<br />\nFor those of you not in the know\, Delta Beer Lab is a small\, ambitious brewery in Fitchburg that&#39\;s been fighting the good fight for a while.<br />\nSo why not cart a bunch of local crafters and a few food trucks out there to have some fun?<br />\nThis small event will\, like other MMM events feature a highly curated selection of local artisans and be hosted by a popular local establishment.<br />\nLooking forward to seeing you all there!<br />\nENTERTAINMENT----<br />\nMediums<br />\nFace Painting<br />\nCostumes<br />\nTrick or Treating<br />\nKids Crafting Corner<br />\nMusic
LOCATION:Delta Beer Lab 167 E. Badger Road\, Madison
UID:e.1970.3143
SEQUENCE:3
DTSTAMP:20260423T050822Z
URL:https://business.fitchburgchamber.com/events/details/deltaween-madison-makers-market-3143
END:VEVENT

END:VCALENDAR
