BEGIN:VCALENDAR
VERSION:2.0
PRODID:-//ChamberMaster//Event Calendar 2.0//EN
METHOD:PUBLISH
X-PUBLISHED-TTL:P3D
REFRESH-INTERVAL:P3D
CALSCALE:GREGORIAN
BEGIN:VEVENT
DTSTART:20220301T223000Z
DTEND:20220302T010000Z
X-MICROSOFT-CDO-ALLDAYEVENT:FALSE
SUMMARY:Delta Beer Lab Non-Profit Partner Kick-Off
DESCRIPTION:Join Delta Beer Lab as they present a check to their February 2022 Nonprofit Partner\, Madison Reading Project\, and to welcome their March Nonprofit Partner\, Sustain Dane.\n\n\n\nSustain Dane's vision is a thriving and inclusive community with a sustainable environment and economy they are proud to pass on to future generations. Their mission is to inspire\, connect\, and support people to accelerate equity and sustainable actions for community wellbeing.\n\n\n\nJoin Delta Beer in person at the Sustain Dane Big Share Social on March 1 at Delta Beer Lab from 4:30 7:00 PM or support them virtually on their Big Share Giving Page. Participate in the Big Share by donating on March 1 or with an early donation today. With over $5\,000 of matching funds\, your donation will be doubled to help them reach our goal of reaching $10\,000!\n\n\n\nDonate here: https://www.thebigshare.org/organizations/sustain-dane\n\nWatch the new 2022 Sustain Dane video to learn more about their programs.\n\nhttps://www.youtube.com/watch?v=9CKezLxSzig
X-ALT-DESC;FMTTYPE=text/html:Join Delta Beer Lab as they present a check to their February 2022 Nonprofit Partner\, <strong><a href="https://www.madisonreadingproject.com/">Madison Reading Project\,</a></strong> and to welcome their March Nonprofit Partner\, <strong><a href="https://sustaindane.org/">Sustain Dane</a></strong>.<br />\n<br />\nSustain Dane&rsquo\;s vision is a thriving and inclusive community with a sustainable environment and economy they are proud to pass on to future generations. Their mission is to inspire\, connect\, and support people to accelerate equity and sustainable actions for community wellbeing.<br />\n<br />\nJoin Delta Beer in person at the Sustain Dane Big Share Social on March 1 at Delta Beer Lab from 4:30&mdash\;7:00 PM or support them virtually on their Big Share Giving Page. Participate in the Big Share by donating on March 1 or with an early donation today. With over $5\,000 of matching funds\, your donation will be doubled to help them reach our goal of reaching $10\,000!<br />\n<br />\nDonate here: <strong><a href="https://www.thebigshare.org/organizations/sustain-dane">https://www.thebigshare.org/organizations/sustain-dane</a></strong><br />\nWatch the new 2022 Sustain Dane video to learn more about their programs.<br />\n<strong><a href="https://www.youtube.com/watch?v=9CKezLxSzig">https://www.youtube.com/watch?v=9CKezLxSzig</a></strong>
LOCATION:Delta Beer Lab 167 E. Badger Road\, Madison\, WI
UID:e.1970.1614
SEQUENCE:3
DTSTAMP:20260419T212933Z
URL:https://business.fitchburgchamber.com/events/details/delta-beer-lab-non-profit-partner-kick-off-1614
END:VEVENT

END:VCALENDAR
