BEGIN:VCALENDAR
VERSION:2.0
PRODID:-//ChamberMaster//Event Calendar 2.0//EN
METHOD:PUBLISH
X-PUBLISHED-TTL:P3D
REFRESH-INTERVAL:P3D
CALSCALE:GREGORIAN
BEGIN:VEVENT
DTSTART:20221103T130000Z
DTEND:20221103T180000Z
X-MICROSOFT-CDO-ALLDAYEVENT:FALSE
SUMMARY:Delta Beer Lab Blood Drive
DESCRIPTION:Give a pint\, get a pint!\n\nDelta Beer Lab and the American Red Cross are hosting an upcoming blood drive.\n\n\n\nPlease join our lifesaving mission and schedule an appointment today by visiting their website:\n\n\n\nhttps://www.redcrossblood.org/give.html/drive-results?zipSponsor=Deltabeerlab\n\n\n\nThe need for blood is constant and only volunteer donors can fulfill that need for patients in our community. Nationwide\, someone needs a unit of blood every 2 to 3 seconds and most of us will need blood in our lifetime.\n\n\n\nThank you for supporting the American Red Cross blood program!\n\n\n\nEach donor will receive a free pint at Delta Beer Lab! Pints cannot be redeemed the same day as your donation.
X-ALT-DESC;FMTTYPE=text/html:<p>Give a pint\, get a pint!</p>\n\n<p>Delta Beer Lab and the American Red Cross are hosting an upcoming blood drive.<br />\n<br />\nPlease join our lifesaving mission and schedule an appointment today by visiting their website:<br />\n<br />\nhttps://www.redcrossblood.org/give.html/drive-results?zipSponsor=Deltabeerlab<br />\n<br />\nThe need for blood is constant and only volunteer donors can fulfill that need for patients in our community. Nationwide\, someone needs a unit of blood every 2 to 3 seconds and most of us will need blood in our lifetime.<br />\n<br />\nThank you for supporting the American Red Cross blood program!<br />\n<br />\nEach donor will receive a free pint at Delta Beer Lab! Pints cannot be redeemed the same day as your donation.</p>\n
LOCATION:Delta Beer Lab 167 E Badger Rd Madison\, WI 53713
UID:e.1970.2082
SEQUENCE:3
DTSTAMP:20260422T121752Z
URL:https://business.fitchburgchamber.com/events/details/delta-beer-lab-blood-drive-2082
END:VEVENT

END:VCALENDAR
