BEGIN:VCALENDAR
VERSION:2.0
PRODID:-//ChamberMaster//Event Calendar 2.0//EN
METHOD:PUBLISH
X-PUBLISHED-TTL:P3D
REFRESH-INTERVAL:P3D
CALSCALE:GREGORIAN
BEGIN:VEVENT
DTSTART:20221103T210000Z
DTEND:20221104T010000Z
X-MICROSOFT-CDO-ALLDAYEVENT:FALSE
SUMMARY:Decor's Holiday Open House
DESCRIPTION:Decor's Holiday Open House will be held Nov. 3rd from 4:00pm-8:00pm. Shop the best in holiday decor and gifts!
X-ALT-DESC;FMTTYPE=text/html:Decor&#39\;s Holiday Open House will be held Nov. 3rd from 4:00pm-8:00pm. Shop the best in holiday decor and gifts!
LOCATION:3000 Cahill Main\, Unit 215A \, Fitchburg\, WI\, United States\, Wisconsin
UID:e.1970.2078
SEQUENCE:3
DTSTAMP:20260422T121751Z
URL:https://business.fitchburgchamber.com/events/details/decor-s-holiday-open-house-2078
END:VEVENT

END:VCALENDAR
