BEGIN:VCALENDAR
VERSION:2.0
PRODID:-//ChamberMaster//Event Calendar 2.0//EN
METHOD:PUBLISH
X-PUBLISHED-TTL:P3D
REFRESH-INTERVAL:P3D
CALSCALE:GREGORIAN
BEGIN:VEVENT
DTSTART:20240220T000000Z
DTEND:20240220T020000Z
X-MICROSOFT-CDO-ALLDAYEVENT:FALSE
SUMMARY:Dart League at Delta Beer Lab
DESCRIPTION:You already knew Delta has steel-tipped darts and two professional-grade cork dart boards\, right? But did you know that we're starting a Monday night dart league and anyone can join? Well\, now you know\, and it's good to be in-the-know.\n\n\n\nDarts at Delta is an 8-week dart league meeting Mondays\, February 19 - April 8\, 6-8pm. Teams will be made up of two players. The game is straight out 501\, best of 5. Teams will keep track of their scores and turn in final results to a VERY official Delta representative. Cash and bar tab prizes for first\, second\, and third place teams.\n\n\n\nAnd while we have some darts to spare\, we encourage folx to bring their own. Sign up by Feb 5.
X-ALT-DESC;FMTTYPE=text/html:<span style="color:rgb(34\, 34\, 34)\; font-family:arial\,helvetica\,sans-serif\; font-size:small">You already knew Delta has steel-tipped darts and two professional-grade cork dart boards\, right? But did you know that we&rsquo\;re starting a Monday night dart league and anyone can join? Well\, now you know\, and it&rsquo\;s good to be in-the-know.</span><br />\n<br />\n<span style="color:rgb(34\, 34\, 34)\; font-family:arial\,helvetica\,sans-serif\; font-size:small">Darts at Delta is an 8-week dart league meeting Mondays\, February 19 - April 8\, 6-8pm. Teams will be made up of two players. The game is straight out 501\, best of 5. Teams will keep track of their scores and turn in final results to a VERY official Delta representative. Cash and bar tab prizes for first\, second\, and third place teams.</span><br />\n<br />\n<span style="color:rgb(34\, 34\, 34)\; font-family:arial\,helvetica\,sans-serif\; font-size:small">And while we have some darts to spare\, we encourage folx to bring their own. Sign up by Feb 5.</span>
LOCATION:Delta Beer Lab 167 E Badger Rd Madison\, WI 53713
UID:e.1970.4094
SEQUENCE:3
DTSTAMP:20260423T131331Z
URL:https://business.fitchburgchamber.com/events/details/dart-league-at-delta-beer-lab-4094
END:VEVENT

END:VCALENDAR
