BEGIN:VCALENDAR
VERSION:2.0
PRODID:-//ChamberMaster//Event Calendar 2.0//EN
METHOD:PUBLISH
X-PUBLISHED-TTL:P3D
REFRESH-INTERVAL:P3D
CALSCALE:GREGORIAN
BEGIN:VEVENT
DTSTART:20220917T150000Z
DTEND:20220917T210000Z
X-MICROSOFT-CDO-ALLDAYEVENT:FALSE
SUMMARY:Dane Buy Local Car Show
DESCRIPTION:Join Dane Buy Local's Car Show at McKee Farms Park. Sponsored by Fitchburg Family Pharmacy! \n\n\n\nYou will find many classic cars to view and talk with the owners. The Healthy Kids Sponsor is Group Health Cooperative (GHC) with a number of kid-friendly activities. Check out the latest with Electric Vehicles sponsored by Madison Gas & Electric. We will have special recognition for our veterans. You will find food carts and other exhibitors as well. Our Welcome Sponsor is Madison Essentials. There is something for everyone! \n\n\n\nMcKee farms park is an accessibility-friendly facility with wide blacktop paths for the event\, handicapped bathrooms\, & additional handicapped parking on-site. For the safety & peace-of-mind of our attendees and exhibitors\, we will have security on the premises throughout the event.
X-ALT-DESC;FMTTYPE=text/html:Join Dane Buy Local&#39\;s Car Show at McKee Farms Park. Sponsored by <strong><a href="https://whatagreatpharmacy.wordpress.com/">Fitchburg Family Pharmacy!</a>&nbsp\;</strong><br />\n<br />\nYou will find many classic cars to view and talk with the owners. The Healthy Kids Sponsor is Group Health Cooperative (GHC) with a number of kid-friendly activities. Check out the latest with Electric Vehicles sponsored by Madison Gas &amp\; Electric. We will have special recognition for our veterans. You will find food carts and other exhibitors as well. Our Welcome Sponsor is Madison Essentials. There is something for everyone!&nbsp\;<br />\n<br />\nMcKee farms park is an accessibility-friendly facility with wide blacktop paths for the event\, handicapped bathrooms\, &amp\; additional handicapped parking on-site. For the safety &amp\; peace-of-mind of our attendees and exhibitors\, we will have security on the premises throughout the event.
LOCATION:McKee Farms Park 2930 Chapel Valley Road\, Fitchburg
UID:e.1970.1287
SEQUENCE:3
DTSTAMP:20260424T085356Z
URL:https://business.fitchburgchamber.com/events/details/dane-buy-local-car-show-1287
END:VEVENT

END:VCALENDAR
