BEGIN:VCALENDAR
VERSION:2.0
PRODID:-//ChamberMaster//Event Calendar 2.0//EN
METHOD:PUBLISH
X-PUBLISHED-TTL:P3D
REFRESH-INTERVAL:P3D
CALSCALE:GREGORIAN
BEGIN:VEVENT
DTSTART:20230709T020000Z
DTEND:20230709T033000Z
X-MICROSOFT-CDO-ALLDAYEVENT:FALSE
SUMMARY:Community Fireworks
DESCRIPTION:The Fitchburg Community Fireworks will be held on July 8th at the Fitchburg Festival of Speed. Free to attend!
X-ALT-DESC;FMTTYPE=text/html:The Fitchburg Community Fireworks will be held on July 8th at the Fitchburg Festival of Speed. Free to attend!
LOCATION:Agora Fitchburg 5500 E. Cheryl Parkway\, Fitchburg
UID:e.1970.2998
SEQUENCE:3
DTSTAMP:20260422T235741Z
URL:https://business.fitchburgchamber.com/events/details/community-fireworks-2998
END:VEVENT

END:VCALENDAR
