BEGIN:VCALENDAR
VERSION:2.0
PRODID:-//ChamberMaster//Event Calendar 2.0//EN
METHOD:PUBLISH
X-PUBLISHED-TTL:P3D
REFRESH-INTERVAL:P3D
CALSCALE:GREGORIAN
BEGIN:VEVENT
DTSTART:20230728T220000Z
DTEND:20230729T000000Z
X-MICROSOFT-CDO-ALLDAYEVENT:FALSE
SUMMARY:Community Crochet Day!
DESCRIPTION:Join our crochet workshop!\n\n\n\nYou're invited to Madison Public Art Project's (MPAP) upcoming Community Crochet Day. The MPAP is always looking for new ways to connect art & community. Our upcoming installation\, The Wildflowers of Wisconsin\, will be a large fiber mural by artist Rebecca Burbach. In creating this exciting mural we are inviting the community to crochet the individual floral elements that will make up the larger composition.\n\n\n\nThe workshops are designed to be fun and informal. No art experience is required. Join us at the Park Pavilion for a beautiful day in the Park. Yarn supplies and a crochet hook will be provided for use upon arrival. If you have a crochet hook you can bring it with you. Each session Rebecca will instruct from a pattern she created how to crochet each flower. Join us for multiple worships and learn how to make many different flowers!\n\n\n\nThe Wildflowers of Wisconsin offers a creative way for neighbors to connect with each other and become part of the public art process. Art holds the power to connect communities together and to educate and inspire. Join us to help create this exciting new public art installation. Children must be accompanied by an adult for duration of program.\n\n\n\nAll experience levels welcome.\n\n\n\nLocal crochet enthusiasts encouraged to register!
X-ALT-DESC;FMTTYPE=text/html:Join our crochet workshop!<br />\n<br />\nYou&rsquo\;re invited to Madison Public Art Project&rsquo\;s (MPAP) upcoming Community Crochet Day. The MPAP is always looking for new ways to connect art &amp\; community. Our upcoming installation\, The Wildflowers of Wisconsin\, will be a large fiber mural by artist Rebecca Burbach. In creating this exciting mural we are inviting the community to crochet the individual floral elements that will make up the larger composition.<br />\n<br />\nThe workshops are designed to be fun and informal. No art experience is required. Join us at the Park Pavilion for a beautiful day in the Park. Yarn supplies and a crochet hook will be provided for use upon arrival. If you have a crochet hook you can bring it with you. Each session Rebecca will instruct from a pattern she created how to crochet each flower. Join us for multiple worships and learn how to make many different flowers!<br />\n<br />\nThe Wildflowers of Wisconsin offers a creative way for neighbors to connect with each other and become part of the public art process. Art holds the power to connect communities together and to educate and inspire. Join us to help create this exciting new public art installation. Children must be accompanied by an adult for duration of program.<br />\n<br />\nAll experience levels welcome.<br />\n<br />\nLocal crochet enthusiasts encouraged to register!
LOCATION:McKee Farms Park Main Park Pavilion 2930 Chapel Valley Rd. Fitchburg\, WI
UID:e.1970.3069
SEQUENCE:3
DTSTAMP:20260423T014240Z
URL:https://business.fitchburgchamber.com/events/details/community-crochet-day-3069
END:VEVENT

END:VCALENDAR
