BEGIN:VCALENDAR
VERSION:2.0
PRODID:-//ChamberMaster//Event Calendar 2.0//EN
METHOD:PUBLISH
X-PUBLISHED-TTL:P3D
REFRESH-INTERVAL:P3D
CALSCALE:GREGORIAN
BEGIN:VEVENT
DTSTART:20230221T220000Z
DTEND:20230222T000000Z
X-MICROSOFT-CDO-ALLDAYEVENT:FALSE
SUMMARY:City of Fitchburg Ag and Rural Affairs Listening Session
DESCRIPTION:The Agriculture and Rural Affairs Committee of the City of Fitchburg\, Dane County\, Wisconsin will hold a public listening session on Tuesday\, February 21\, 2023 at 4:00 PM at Four Winds Farm\, 5735 Adams Road\, Fitchburg\, WI 53575. This will be an opportunity for the public to share about issues that impact them and hear updates from City staff on relevant issues. At the above indicated time\, all interested persons will be given an opportunity to speak.
X-ALT-DESC;FMTTYPE=text/html:The Agriculture and Rural Affairs Committee of the City of Fitchburg\, Dane County\, Wisconsin will hold a public listening session on Tuesday\, February 21\, 2023 at 4:00 PM at Four Winds Farm\, 5735 Adams Road\, Fitchburg\, WI 53575. This will be an opportunity for the public to share about issues that impact them and hear updates from City staff on relevant issues. At the above indicated time\, all interested persons will be given an opportunity to speak.
LOCATION:Four Winds Farm\, 5735 Adams Road\, Fitchburg\, WI 53575
UID:e.1970.2782
SEQUENCE:3
DTSTAMP:20260422T173949Z
URL:https://business.fitchburgchamber.com/events/details/city-of-fitchburg-ag-and-rural-affairs-listening-session-2782
END:VEVENT

END:VCALENDAR
