BEGIN:VCALENDAR
VERSION:2.0
PRODID:-//ChamberMaster//Event Calendar 2.0//EN
METHOD:PUBLISH
X-PUBLISHED-TTL:P3D
REFRESH-INTERVAL:P3D
CALSCALE:GREGORIAN
BEGIN:VEVENT
DTSTART:20221201T000000Z
DTEND:20221201T033000Z
X-MICROSOFT-CDO-ALLDAYEVENT:FALSE
SUMMARY:Chunky Blanket Workshop
DESCRIPTION:Join us for this fun Fall event and make your very own chunky\, cozy blanket! All materials & instruction are included in registration price.
X-ALT-DESC;FMTTYPE=text/html:Join us for this fun Fall event and make your very own chunky\, cozy blanket! All materials &amp\; instruction are included in registration price.
LOCATION:Hop Haus Brewing Co. Fitchburg 2975 Sub Zero Parkway\, Fitchburg
UID:e.1970.2092
SEQUENCE:3
DTSTAMP:20260422T121622Z
URL:https://business.fitchburgchamber.com/events/details/chunky-blanket-workshop-2092
END:VEVENT

END:VCALENDAR
