BEGIN:VCALENDAR
VERSION:2.0
PRODID:-//ChamberMaster//Event Calendar 2.0//EN
METHOD:PUBLISH
X-PUBLISHED-TTL:P3D
REFRESH-INTERVAL:P3D
CALSCALE:GREGORIAN
BEGIN:VEVENT
DTSTART:20220723T140000Z
DTEND:20220723T200000Z
X-MICROSOFT-CDO-ALLDAYEVENT:FALSE
SUMMARY:Christmas In July Makers Market
DESCRIPTION:It's never too early to start shopping for the holidays...or yourself! Browse the makings of over 80 local makers from wood workers to candle makers.
X-ALT-DESC;FMTTYPE=text/html:It&#39\;s never too early to start shopping for the holidays...or yourself! Browse the makings of over 80 local makers from wood workers to candle makers.
LOCATION:Fitchburg Farms 1839 Co Rd MM\, Fitchburg\, WI
UID:e.1970.2032
SEQUENCE:3
DTSTAMP:20260420T023240Z
URL:https://business.fitchburgchamber.com/events/details/christmas-in-july-makers-market-2032
END:VEVENT

END:VCALENDAR
