BEGIN:VCALENDAR
VERSION:2.0
PRODID:-//ChamberMaster//Event Calendar 2.0//EN
METHOD:PUBLISH
X-PUBLISHED-TTL:P3D
REFRESH-INTERVAL:P3D
CALSCALE:GREGORIAN
BEGIN:VEVENT
DTSTART:20230318T180000Z
DTEND:20230318T200000Z
X-MICROSOFT-CDO-ALLDAYEVENT:FALSE
SUMMARY:Chili CookOff
DESCRIPTION:Chili Cook off - Cooks/Contestants and Judges wanted! Sign up at the V Post 1318 to bring your best chili by 3/12/2023 - cost is $10 per team - Cash/prizes for top 3 chilis (1st: $100\, 2nd: $50\, 3rd: $25 gift card) $10 to judge and vote on your favorite chili on 3/18/2023 enter the Basket Raffles and Cash Raffles. Admission tickets and funds raised from raffles will go towards the VFW Post 1318 General fund which is used to help local Veterans.
X-ALT-DESC;FMTTYPE=text/html:Chili Cook off - Cooks/Contestants and Judges wanted! Sign up at the V Post 1318 to bring your best chili by 3/12/2023 - cost is $10 per team - Cash/prizes for top 3 chilis (1st: $100\, 2nd: $50\, 3rd: $25 gift card) $10 to judge and vote on your favorite chili on 3/18/2023 enter the Basket Raffles and Cash Raffles. Admission tickets and funds raised from raffles will go towards the VFW Post 1318 General fund which is used to help local Veterans.
LOCATION:The V Post 1318\, 2740 Ski Lane\, Fitchburg WI
UID:e.1970.2802
SEQUENCE:3
DTSTAMP:20260422T185523Z
URL:https://business.fitchburgchamber.com/events/details/chili-cookoff-2802
END:VEVENT

END:VCALENDAR
