BEGIN:VCALENDAR
VERSION:2.0
PRODID:-//ChamberMaster//Event Calendar 2.0//EN
METHOD:PUBLISH
X-PUBLISHED-TTL:P3D
REFRESH-INTERVAL:P3D
CALSCALE:GREGORIAN
BEGIN:VEVENT
DTSTART:20230422T150000Z
DTEND:20230422T180000Z
X-MICROSOFT-CDO-ALLDAYEVENT:FALSE
SUMMARY:Celebrate Trails Day 2023 Fitchburg Recreation Station
DESCRIPTION:Take a pit stop on Celebrate Trails Day 2023 at the Velo UnderRound\, the confluence of the Badger State and Capital City State Trails and the Southwest\, Cannonball\, and Military Ridge Paths!\n\n\n\nYour hosts are Bike Fitchburg and the Rails to Trails Conservancy. Enjoy snacks and cold drinks\, pick up Dane County and Fitchburg bicycle maps and safety information\, and discuss all kinds of biking in and around Fitchburg. Learn more about Bike Fitchburg and our local advocacy for everyone who rides or walks.\n\n\n\nThe Velo UnderRound is a two-level interchange among five regional trails\, serving Fitchburg\, Madison\, Verona\, and locations throughout Wisconsin and northern Illinois. Water\, rest rooms\, air pump\, and repair stand with tools are nearby at Fitchburg's Dawley Bike Hub. Epic mountain biking is adjacent at the Dane County Seminole Mountain Bike Park and just south on the Military Ridge State Trail at Fitchburg's Quarry Ridge Recreation Area.
X-ALT-DESC;FMTTYPE=text/html:Take a pit stop on Celebrate Trails Day 2023 at the Velo UnderRound\, the confluence of the Badger State and Capital City State Trails and the Southwest\, Cannonball\, and Military Ridge Paths!<br />\n<br />\nYour hosts are Bike Fitchburg and the Rails to Trails Conservancy. Enjoy snacks and cold drinks\, pick up Dane County and Fitchburg bicycle maps and safety information\, and discuss all kinds of biking in and around Fitchburg. Learn more about Bike Fitchburg and our local advocacy for everyone who rides or walks.<br />\n<br />\nThe Velo UnderRound is a two-level interchange among five regional trails\, serving Fitchburg\, Madison\, Verona\, and locations throughout Wisconsin and northern Illinois. Water\, rest rooms\, air pump\, and repair stand with tools are nearby at Fitchburg&rsquo\;s Dawley Bike Hub. Epic mountain biking is adjacent at the Dane County Seminole Mountain Bike Park and just south on the Military Ridge State Trail at Fitchburg&rsquo\;s Quarry Ridge Recreation Area.
LOCATION:The Velo Underground
UID:e.1970.2869
SEQUENCE:3
DTSTAMP:20260422T204330Z
URL:https://business.fitchburgchamber.com/events/details/celebrate-trails-day-2023-fitchburg-recreation-station-2869
END:VEVENT

END:VCALENDAR
