BEGIN:VCALENDAR
VERSION:2.0
PRODID:-//ChamberMaster//Event Calendar 2.0//EN
METHOD:PUBLISH
X-PUBLISHED-TTL:P3D
REFRESH-INTERVAL:P3D
CALSCALE:GREGORIAN
BEGIN:VEVENT
DTSTART:20231204T133000Z
DTEND:20231204T163000Z
X-MICROSOFT-CDO-ALLDAYEVENT:FALSE
SUMMARY:Celebrate National Cookie Day with The Cesta
DESCRIPTION:You're invited to pop by the future home of The Cesta & enjoy complimentary coffee\, hot chocolate\, & cookies in celebration of National Cookie Day!
X-ALT-DESC;FMTTYPE=text/html:<span style="font-size:20px"><span style="font-family:arial\,helvetica\,sans-serif">You&#39\;re invited to pop by the future home of The Cesta &amp\; enjoy complimentary coffee\, hot chocolate\, &amp\; cookies in celebration of National Cookie Day!</span></span>
LOCATION:Future Home of The Cesta Terravessa Neighborhood Enter on Radicchio Dr. off of Lacy Rd. for a drive-thru treat!
UID:e.1970.3178
SEQUENCE:3
DTSTAMP:20260423T100600Z
URL:https://business.fitchburgchamber.com/events/details/celebrate-national-cookie-day-with-the-cesta-3178
END:VEVENT

END:VCALENDAR
