BEGIN:VCALENDAR
VERSION:2.0
PRODID:-//ChamberMaster//Event Calendar 2.0//EN
METHOD:PUBLISH
X-PUBLISHED-TTL:P3D
REFRESH-INTERVAL:P3D
CALSCALE:GREGORIAN
BEGIN:VEVENT
DTSTART:20231107T000000Z
DTEND:20231107T020000Z
X-MICROSOFT-CDO-ALLDAYEVENT:FALSE
SUMMARY:Bourbon 101 at Flight Wine & Bourbon Bar
DESCRIPTION:Bourbon enthusiasts\, this one's for you! \n\n \n\nJoin Flight on Monday\, November 6th from 6-8pm for 'Bourbon 101' led by bourbon aficionado\, Brett Walker. \n\n \n\nSample and explore the unique characteristics of these fine bourbons: \n\n \n\n	Elijah Craig Small Batch \n	Knob Creek Single Barrel \n	Maker's Mark 46 \n	Jefferson Ocean \n	Heaven Hill 7yr Bottled in Bond \n\n \n\nThis event is your chance to expand your bourbon knowledge and indulge in its complexities.
X-ALT-DESC;FMTTYPE=text/html:Bourbon enthusiasts\, this one&#39\;s for you!&nbsp\;<br />\n&#8288\;<br />\nJoin Flight on Monday\, November 6th from 6-8pm for &#39\;Bourbon 101&#39\; led by bourbon aficionado\, Brett Walker.&#8288\;<br />\n&#8288\;<br />\nSample and explore the unique characteristics of these fine bourbons:&#8288\;<br />\n&#8288\;\n<ul>\n	<li>Elijah Craig Small Batch&#8288\;</li>\n	<li>Knob Creek Single Barrel&#8288\;</li>\n	<li>Maker&#39\;s Mark 46&#8288\;</li>\n	<li>Jefferson Ocean&#8288\;</li>\n	<li>Heaven Hill 7yr Bottled in Bond&#8288\;</li>\n</ul>\n&#8288\;<br />\nThis event is your chance to expand your bourbon knowledge and indulge in its complexities.&#8288\;
LOCATION:Flight Wine & Bourbon Bar 4893 Lacy Road Suite 101 Fitchburg\, WI 53711
UID:e.1970.3176
SEQUENCE:3
DTSTAMP:20260423T082620Z
URL:https://business.fitchburgchamber.com/events/details/bourbon-101-at-flight-wine-bourbon-bar-3176
END:VEVENT

END:VCALENDAR
