BEGIN:VCALENDAR
VERSION:2.0
PRODID:-//ChamberMaster//Event Calendar 2.0//EN
METHOD:PUBLISH
X-PUBLISHED-TTL:P3D
REFRESH-INTERVAL:P3D
CALSCALE:GREGORIAN
BEGIN:VEVENT
DTSTART:20240111T150000Z
DTEND:20240111T190000Z
X-MICROSOFT-CDO-ALLDAYEVENT:FALSE
SUMMARY:Blood Drive sponsored by Boys and Girls Club of Dane County
DESCRIPTION:For National Blood Donor Month\, Boys & Girls Club of Dane County will host a community blood drive with ImpactLife\, the provider of blood components for local hospitals. The blood drive will be from 9:00 am to 1:00 pm on Thursday\, January 11 at 4619 Jenewein Rd.\, inside the Allied Family Center Gym. To donate\, please contact ImpactLife (800) 747-5401 or visit www.bloodcenter.org and use code 5790 to schedule.  Appointments are appreciated.  Walk-ins are welcome as space allows.  \n\n			 \n			\n				\n					\n						Potential donors must be at least 17 years of age (16 with parental permission form available through www.bloodcenter.org) and weigh more than 110 pounds. A photo I.D. is required to donate.  For questions about eligibility\, please call ImpactLife at (800) 747-5401. Donors who last gave blood on or before 11/16/23 are eligible to give at this drive.\n\n						 \n					\n				\n			\n\n			\n			\n				\n					\n						ImpactLife is the provider of blood and blood components to more than 125 hospitals in Illinois\, Iowa\, Missouri and Wisconsin.  In your area\, ImpactLife is the exclusive provider to SSM Health St. Mary's Hospital\, Stoughton Health.
X-ALT-DESC;FMTTYPE=text/html:<table cellpadding="0" cellspacing="0" style="height:293px\; width:784px">\n	<tbody>\n		<tr>\n			<td style="vertical-align:top"><span style="color:black"><span style="font-size:11.5pt">For National Blood Donor Month\, Boys &amp\; Girls Club of Dane County will host a community blood drive with ImpactLife\, the provider of blood components for local hospitals. The blood drive will be from 9:00 am to 1:00 pm on Thursday\, January 11 at 4619 Jenewein Rd.\, inside the Allied Family Center Gym. To donate\, please contact ImpactLife (800) 747-5401 or visit www.bloodcenter.org and use code 5790 to schedule.&nbsp\; Appointments are appreciated.&nbsp\; Walk-ins are welcome as space allows.&nbsp\;&nbsp\;</span></span><br />\n			&nbsp\;\n			<table cellpadding="0" cellspacing="0" style="height:92px\; width:784px">\n				<tbody>\n					<tr>\n						<td style="vertical-align:top"><span style="color:black"><span style="font-size:11.5pt">Potential donors must be at least 17 years of age (16 with parental permission form available through www.bloodcenter.org) and weigh more than 110 pounds. A photo I.D. is required to donate.&nbsp\; For questions about eligibility\, please call ImpactLife at (800) 747-5401. Donors who last gave blood on or before 11/16/23 are eligible to give at this drive.</span></span><br />\n						&nbsp\;</td>\n					</tr>\n				</tbody>\n			</table>\n\n			<div>\n			<table cellpadding="0" cellspacing="0" style="height:151px\; width:784px">\n				<tbody>\n					<tr>\n						<td style="vertical-align:top"><span style="color:black"><span style="font-size:11.5pt">ImpactLife is the provider of blood and blood components to more than 125 hospitals in Illinois\, Iowa\, Missouri and Wisconsin.&nbsp\; In your area\, ImpactLife is the exclusive provider to SSM Health St. Mary&#39\;s Hospital\, Stoughton Health</span></span><span style="color:blue"><span style="font-size:11.5pt">.</span></span></td>\n					</tr>\n				</tbody>\n			</table>\n\n			<div>&nbsp\;</div>\n			</div>\n			</td>\n		</tr>\n	</tbody>\n</table>\n\n<div>&nbsp\;</div>\n
LOCATION:Allied Family Center Gym 4619 Jenewein Rd.\, Fitchburg
UID:e.1970.3235
SEQUENCE:3
DTSTAMP:20260423T102116Z
URL:https://business.fitchburgchamber.com/events/details/blood-drive-sponsored-by-boys-and-girls-club-of-dane-county-3235
END:VEVENT

END:VCALENDAR
