BEGIN:VCALENDAR
VERSION:2.0
PRODID:-//ChamberMaster//Event Calendar 2.0//EN
METHOD:PUBLISH
X-PUBLISHED-TTL:P3D
REFRESH-INTERVAL:P3D
CALSCALE:GREGORIAN
BEGIN:VEVENT
DTSTART:20230927T200000Z
DTEND:20230927T230000Z
X-MICROSOFT-CDO-ALLDAYEVENT:FALSE
SUMMARY:Blood Drive At Sheraton Hotel
DESCRIPTION:Sheraton Madison Hotel will host a community blood drive with ImpactLife\, the provider of blood components for local hospitals. The blood drive will be from 3:00 pm to 6:00 pm on Wednesday\, September 27 at 706 John Nolen Dr\, inside Donor Bus. A gathering inside the hotel lobby with snacks and meet with ImpactLife representatives to learn more about blood donation supporting local hospitals.\n\n\n\nTo donate\, please contact ImpactLife Madison at (800) 747-5401 or visit www.bloodcenter.org and use code 5754 to locate the drive.\n\n\n\nPotential donors must be at least 17 years of age (16 with parental permission form available through www.bloodcenter.org) and weigh more than 110 pounds. A photo I.D. is required to donate. For questions about eligibility\, please call ImpactLife at (800) 747-5401. Donors who last gave blood on or before 8/2/23 are eligible to give at this drive.\n\n\n\nBlood donation is a safe\, simple procedure that takes about 45 minutes to one hour. Individuals with diabetes or controlled high blood pressure may be accepted as eligible donors.
X-ALT-DESC;FMTTYPE=text/html:Sheraton Madison Hotel will host a community blood drive with ImpactLife\, the provider of blood components for local hospitals. The blood drive will be from 3:00 pm to 6:00 pm on Wednesday\, September 27 at 706 John Nolen Dr\, inside Donor Bus. A gathering inside the hotel lobby with snacks and meet with ImpactLife representatives to learn more about blood donation supporting local hospitals.<br />\n<br />\nTo donate\, please contact ImpactLife Madison at (800) 747-5401 or visit www.bloodcenter.org and use code 5754 to locate the drive.<br />\n<br />\nPotential donors must be at least 17 years of age (16 with parental permission form available through www.bloodcenter.org) and weigh more than 110 pounds. A photo I.D. is required to donate. For questions about eligibility\, please call ImpactLife at (800) 747-5401. Donors who last gave blood on or before 8/2/23 are eligible to give at this drive.<br />\n<br />\nBlood donation is a safe\, simple procedure that takes about 45 minutes to one hour. Individuals with diabetes or controlled high blood pressure may be accepted as eligible donors.
LOCATION:Donor Bus\, 706 John Nolen Dr\, Madison\, WI
UID:e.1970.3138
SEQUENCE:3
DTSTAMP:20260423T033529Z
URL:https://business.fitchburgchamber.com/events/details/blood-drive-at-sheraton-hotel-3138
END:VEVENT

END:VCALENDAR
