BEGIN:VCALENDAR
VERSION:2.0
PRODID:-//ChamberMaster//Event Calendar 2.0//EN
METHOD:PUBLISH
X-PUBLISHED-TTL:P3D
REFRESH-INTERVAL:P3D
CALSCALE:GREGORIAN
BEGIN:VEVENT
DTSTART:20240930T190000Z
DTEND:20240930T203000Z
X-MICROSOFT-CDO-ALLDAYEVENT:FALSE
SUMMARY:Bites & Insights - An Introduction to The Cesta
DESCRIPTION:Join us to learn about Fitchburg's newest senior living community\, The Cesta. Accepting apartment reservations this Fall\, The Cesta will be a Life Plan community located in the heart of the multigenerational Terravessa neighborhood.\n\n\n\nWe believe being a part of a community allows us to live life more fully and provides opportunities to make meaningful connections. And while The Cesta is designed specifically for active\, independent seniors\, you'll enjoy peace of mind knowing there is an array of campus amenities and additional care levels available to you if needed.\n\n\n\nWe invite you to be a part of this exciting development from the ground up!
X-ALT-DESC;FMTTYPE=text/html:<span style="font-family:arial\,helvetica\,sans-serif\; font-size:14px">Join us to learn about Fitchburg&#39\;s newest senior living community\,&nbsp\;</span><strong>The Cesta</strong><span style="font-family:arial\,helvetica\,sans-serif\; font-size:14px">. Accepting apartment reservations this Fall\, The Cesta will be a Life Plan community located in the heart of the multigenerational Terravessa neighborhood.</span><br />\n<br />\n<span style="font-family:arial\,helvetica\,sans-serif\; font-size:14px">We believe being a part of a community allows us to live life more fully and provides opportunities to make meaningful connections. And while The Cesta is designed specifically for active\, independent seniors\, you&#39\;ll enjoy peace of mind knowing there is an array of campus amenities and additional care levels available to you if needed.</span><br />\n<br />\n<span style="color:rgb(85\, 85\, 85)\; font-family:arial\,helvetica\,sans-serif\; font-size:14px"><span style="color:rgba(0\, 0\, 0\, 0.9)">We invite you to be a part of this exciting development from the ground up!&nbsp\;</span></span>
LOCATION:The Cesta Office
UID:e.1970.6319
SEQUENCE:3
DTSTAMP:20260421T090846Z
URL:https://business.fitchburgchamber.com/events/details/bites-insights-an-introduction-to-the-cesta-6319
END:VEVENT

END:VCALENDAR
