BEGIN:VCALENDAR
VERSION:2.0
PRODID:-//ChamberMaster//Event Calendar 2.0//EN
METHOD:PUBLISH
X-PUBLISHED-TTL:P3D
REFRESH-INTERVAL:P3D
CALSCALE:GREGORIAN
BEGIN:VEVENT
DTSTART:20240227T160000Z
DTEND:20240227T170000Z
X-MICROSOFT-CDO-ALLDAYEVENT:FALSE
SUMMARY:Beyond Open Enrollment: Keeping Benefits In Focus Year Round
DESCRIPTION:Ever wonder why\, despite offering fantastic benefits\, employees seem to forget about them after open enrollment?\n\n \n\nJoin us for an enlightening session where we'll unravel the mystery behind sustaining engagement with your benefit plan. We'll focus on the mindset shift\, effective communication tactics and continuous wellness programs crucial for ensuring your workforce not only remembers and appreciates their benefits but uses them throughout the year.\n\n \n\n10:00am   10:05am CT \n\nWelcome & Opening Remarks\n\nMelina Kambitsi Ph.D.\, Senior Vice President\, Business Development and Strategic Marketing\, The Alliance\n\n \n\n10:05am   10:50am CT \n\nPresentation\n\nLauren Winans\, CEO and Principal HR Consultant\, Next Level Benefits\n\n \n\n10:50am   11:00am CT \n\nQ & A and Closing Remarks\n\nMelina Kambitsi\, Ph.D.\, The Alliance
X-ALT-DESC;FMTTYPE=text/html:<div>Ever wonder why\, despite offering fantastic benefits\, employees seem to forget about them after open enrollment?</div>\n\n<div>&nbsp\;</div>\n\n<div>Join us for an enlightening session where we&rsquo\;ll unravel the mystery behind sustaining engagement with your benefit plan. We&rsquo\;ll focus on the mindset shift\, effective communication tactics and continuous wellness programs crucial for ensuring your workforce not only remembers and appreciates their benefits but uses them throughout the year.</div>\n\n<div>&nbsp\;</div>\n\n<div>10:00am &ndash\; 10:05am CT<span style="white-space:pre"> </span></div>\n\n<div>Welcome &amp\; Opening Remarks</div>\n\n<div>Melina Kambitsi Ph.D.\, Senior Vice President\, Business Development and Strategic Marketing\, The Alliance</div>\n\n<div>&nbsp\;</div>\n\n<div>10:05am &ndash\; 10:50am CT<span style="white-space:pre"> </span></div>\n\n<div>Presentation</div>\n\n<div>Lauren Winans\, CEO and Principal HR Consultant\, Next Level Benefits</div>\n\n<div>&nbsp\;</div>\n\n<div>10:50am &ndash\; 11:00am CT<span style="white-space:pre"> </span></div>\n\n<div>Q &amp\; A and Closing Remarks</div>\n\n<div>Melina Kambitsi\, Ph.D.\, The Alliance</div>\n
LOCATION:
UID:e.1970.3278
SEQUENCE:3
DTSTAMP:20260423T131645Z
URL:https://business.fitchburgchamber.com/events/details/beyond-open-enrollment-keeping-benefits-in-focus-year-round-3278
END:VEVENT

END:VCALENDAR
