BEGIN:VCALENDAR
VERSION:2.0
PRODID:-//ChamberMaster//Event Calendar 2.0//EN
METHOD:PUBLISH
X-PUBLISHED-TTL:P3D
REFRESH-INTERVAL:P3D
CALSCALE:GREGORIAN
BEGIN:VEVENT
DTSTART:20231203T200000Z
DTEND:20231203T220000Z
X-MICROSOFT-CDO-ALLDAYEVENT:FALSE
SUMMARY:Beer & Chocolate Pairing with Gail Ambrosius
DESCRIPTION:Delta Beer Lab is partnering with local chocolatier Gail Ambrosius to bring you a delicious beer and chocolate pairing. Enjoy 4 unique beers paired brilliantly with 4 amazing chocolates.
X-ALT-DESC;FMTTYPE=text/html:<span style="color:rgb(34\, 34\, 34)\; font-family:arial\,helvetica\,sans-serif\; font-size:small">Delta Beer Lab is partnering with local chocolatier Gail Ambrosius to bring you a delicious beer and chocolate pairing. Enjoy 4 unique beers paired brilliantly with 4 amazing chocolates.</span>
LOCATION:Delta Beer Lab 167 E Badger Rd Madison\, WI 53713
UID:e.1970.3189
SEQUENCE:3
DTSTAMP:20260423T083428Z
URL:https://business.fitchburgchamber.com/events/details/beer-chocolate-pairing-with-gail-ambrosius-3189
END:VEVENT

END:VCALENDAR
