BEGIN:VCALENDAR
VERSION:2.0
PRODID:-//ChamberMaster//Event Calendar 2.0//EN
METHOD:PUBLISH
X-PUBLISHED-TTL:P3D
REFRESH-INTERVAL:P3D
CALSCALE:GREGORIAN
BEGIN:VEVENT
DTSTART:20220409T000000Z
DTEND:20220409T040000Z
X-MICROSOFT-CDO-ALLDAYEVENT:FALSE
SUMMARY:Barnwood Events Concert Series: Phil Norby
DESCRIPTION:Phil Norby will be featuring his original works at this unique concert at Barnwood Events located at 3230 Larsen Rd\, Madison\, WI 53711.\n\n\n\nYou can check out more about Phil at: https://philnorby.com/music/\n\n\n\nCheck out a couple of Phil's YouTube videos here: https://www.youtube.com/watch?v=a0PQYJQuHfQ&t=7s and https://www.youtube.com/watch?v=oKrD-5JKh98\n\n\n\nDoors will open at 7pm. The Bar will be open from 7 pm - 10:30 pm and there will be snacks available for purchase. No outside beverage or food is allowed to be brought in.\n\n\n\nTables of 8 are $65 but are limited. Single seats are $10 each.
X-ALT-DESC;FMTTYPE=text/html:Phil Norby will be featuring his original works at this unique concert at Barnwood Events located at 3230 Larsen Rd\, Madison\, WI 53711.<br />\n<br />\nYou can check out more about Phil at: https://philnorby.com/music/<br />\n<br />\nCheck out a couple of Phil&#39\;s YouTube videos here: https://www.youtube.com/watch?v=a0PQYJQuHfQ&amp\;t=7s and https://www.youtube.com/watch?v=oKrD-5JKh98<br />\n<br />\nDoors will open at 7pm. The Bar will be open from 7 pm - 10:30 pm and there will be snacks available for purchase. No outside beverage or food is allowed to be brought in.<br />\n<br />\nTables of 8 are $65 but are limited. Single seats are $10 each.
LOCATION:Barnwood Events 3230 Larsen Road Madison\, WI 53711
UID:e.1970.1678
SEQUENCE:3
DTSTAMP:20260420T004845Z
URL:https://business.fitchburgchamber.com/events/details/barnwood-events-concert-series-phil-norby-1678
END:VEVENT

END:VCALENDAR
