BEGIN:VCALENDAR
VERSION:2.0
PRODID:-//ChamberMaster//Event Calendar 2.0//EN
METHOD:PUBLISH
X-PUBLISHED-TTL:P3D
REFRESH-INTERVAL:P3D
CALSCALE:GREGORIAN
BEGIN:VEVENT
DTSTART:20211120T010000Z
DTEND:20211120T043000Z
X-MICROSOFT-CDO-ALLDAYEVENT:FALSE
SUMMARY:Barnwood Events Concert Series: Jay Matthes
DESCRIPTION:Jay Matthes is an award-winning singer/songwriter from Milwaukee\, Wisconsin. His original music has been featured on local\, regional and national radio and television\, including daily rotation for 'The Light' music video on The Country Network. Jay 's music has been placed in advertisements for Brady Street Festival in Milwaukee and Blue Falcon Whiskey\, and he was the singer for Wisconsin State Fair's WonderFair TV and radio commercials in 2018.\n\n\n\n Jay will be featuring his original works at this unique concert at Barnwood Events located at 3230 Larsen Rd\, Madison\, WI 53711.\n\n\n\nYou can check out more about Jay on his website at: https://www.jaymatthes.com/\n\n\n\nDoors will open at 7pm. The Bar will be open from 7 pm - 10:30 pm and there will be snacks available for purchase. No outside beverage or food is allowed to be brought in.
X-ALT-DESC;FMTTYPE=text/html:Jay Matthes is an award-winning singer/songwriter from Milwaukee\, Wisconsin. His original music has been featured on local\, regional and national radio and television\, including daily rotation for &#39\;The Light&#39\; music video on The Country Network. Jay &#39\;s music has been placed in advertisements for Brady Street Festival in Milwaukee and Blue Falcon Whiskey\, and he was the singer for Wisconsin State Fair&#39\;s WonderFair TV and radio commercials in 2018.<br />\n<br />\n&#8203\;Jay will be featuring his original works at this unique concert at Barnwood Events located at 3230 Larsen Rd\, Madison\, WI 53711.<br />\n<br />\nYou can check out more about Jay on his website at: <a href="https://www.jaymatthes.com/">https://www.jaymatthes.com/</a><br />\n<br />\nDoors will open at 7pm. The Bar will be open from 7 pm - 10:30 pm and there will be snacks available for purchase. No outside beverage or food is allowed to be brought in.
LOCATION:Barnwood Events 3230 Larsen Road Madison\, WI 53711
UID:e.1970.1357
SEQUENCE:3
DTSTAMP:20260419T162404Z
URL:https://business.fitchburgchamber.com/events/details/barnwood-events-concert-series-jay-matthes-1357
END:VEVENT

END:VCALENDAR
