BEGIN:VCALENDAR
VERSION:2.0
PRODID:-//ChamberMaster//Event Calendar 2.0//EN
METHOD:PUBLISH
X-PUBLISHED-TTL:P3D
REFRESH-INTERVAL:P3D
CALSCALE:GREGORIAN
BEGIN:VEVENT
DTSTART:20260204T233000Z
DTEND:20260205T020000Z
X-MICROSOFT-CDO-ALLDAYEVENT:FALSE
SUMMARY:Barlow Family Wine Dinner at Quivey's Grove
DESCRIPTION:Join us for a special wine pairing dinner on Wednesday\, February 4th at 5:30pm with Barlow Vineyards & guest host Abby Dibbs from AVA Wine + Spirits.\n\n\n\nBarlow Family Vineyards have been making some of the best small batch estate wines since 1994. Due to limited amounts made\, these wines can be hard to find\, so we are very excited to be able to offer them to you through this special dinner!\n\n\n\nOpening (Meet & Greet)\n\n\n\n2021 Barlow Family Merlot\n\n\n\nFirst Course - Salad\n\nWinter Greens\, Dried Cherries\, Toasted Pecans\, Shaved\n\nParmesan\, Lemon-Dijon Vinaigrette\, served with warm\n\nLemon Poppy seed Muffins\n\n\n\n2023 Barlow Family Sauvignon Blanc\n\n\n\nSecond Course - Pasta\n\nRigatoni\, Fennel\, Spicy Italian Sausage\, Parmesan\,\n\nTomato Cream Sauce\n\n\n\n2021 Barlow Family Cab Franc\n\n\n\nThird Course - Dessert\n\nChocolate Mousse\, Whipped Cream\, Dark Berry Compote\n\n\n\n2017 Barlow Family Cabernet Sauvignon\n\n\n\n\n\n*Discounted bottles available to purchase at the end of the dinner.
X-ALT-DESC;FMTTYPE=text/html:<span style="color: rgb(43\, 43\, 43)\; font-family: Oracle\, Helvetica\, sans-serif\; font-size: 16px\;">Join us for a special wine pairing dinner on Wednesday\, February 4th at 5:30pm with Barlow Vineyards &amp\; guest host Abby Dibbs from AVA Wine + Spirits.</span><br style="-webkit-tap-highlight-color: rgba(0\, 0\, 0\, 0)\; text-size-adjust: 100%\; box-sizing: inherit\; font-feature-settings: &quot\;ss16&quot\;\; color: rgb(43\, 43\, 43)\; font-family: Oracle\, Helvetica\, sans-serif\; font-size: 16px\;" />\n<br style="-webkit-tap-highlight-color: rgba(0\, 0\, 0\, 0)\; text-size-adjust: 100%\; box-sizing: inherit\; font-feature-settings: &quot\;ss16&quot\;\; color: rgb(43\, 43\, 43)\; font-family: Oracle\, Helvetica\, sans-serif\; font-size: 16px\;" />\n<span style="color: rgb(43\, 43\, 43)\; font-family: Oracle\, Helvetica\, sans-serif\; font-size: 16px\;">Barlow Family Vineyards have been making some of the best small batch estate wines since 1994. Due to limited amounts made\, these wines can be hard to find\, so we are very excited to be able to offer them to you through this special dinner!</span><br style="-webkit-tap-highlight-color: rgba(0\, 0\, 0\, 0)\; text-size-adjust: 100%\; box-sizing: inherit\; font-feature-settings: &quot\;ss16&quot\;\; color: rgb(43\, 43\, 43)\; font-family: Oracle\, Helvetica\, sans-serif\; font-size: 16px\;" />\n<br style="-webkit-tap-highlight-color: rgba(0\, 0\, 0\, 0)\; text-size-adjust: 100%\; box-sizing: inherit\; font-feature-settings: &quot\;ss16&quot\;\; color: rgb(43\, 43\, 43)\; font-family: Oracle\, Helvetica\, sans-serif\; font-size: 16px\;" />\n<span style="color: rgb(43\, 43\, 43)\; font-family: Oracle\, Helvetica\, sans-serif\; font-size: 16px\;">Opening (Meet &amp\; Greet)</span><br style="-webkit-tap-highlight-color: rgba(0\, 0\, 0\, 0)\; text-size-adjust: 100%\; box-sizing: inherit\; font-feature-settings: &quot\;ss16&quot\;\; color: rgb(43\, 43\, 43)\; font-family: Oracle\, Helvetica\, sans-serif\; font-size: 16px\;" />\n<br style="-webkit-tap-highlight-color: rgba(0\, 0\, 0\, 0)\; text-size-adjust: 100%\; box-sizing: inherit\; font-feature-settings: &quot\;ss16&quot\;\; color: rgb(43\, 43\, 43)\; font-family: Oracle\, Helvetica\, sans-serif\; font-size: 16px\;" />\n<span style="color: rgb(43\, 43\, 43)\; font-family: Oracle\, Helvetica\, sans-serif\; font-size: 16px\;">2021 Barlow Family Merlot</span><br style="-webkit-tap-highlight-color: rgba(0\, 0\, 0\, 0)\; text-size-adjust: 100%\; box-sizing: inherit\; font-feature-settings: &quot\;ss16&quot\;\; color: rgb(43\, 43\, 43)\; font-family: Oracle\, Helvetica\, sans-serif\; font-size: 16px\;" />\n<br style="-webkit-tap-highlight-color: rgba(0\, 0\, 0\, 0)\; text-size-adjust: 100%\; box-sizing: inherit\; font-feature-settings: &quot\;ss16&quot\;\; color: rgb(43\, 43\, 43)\; font-family: Oracle\, Helvetica\, sans-serif\; font-size: 16px\;" />\n<span style="color: rgb(43\, 43\, 43)\; font-family: Oracle\, Helvetica\, sans-serif\; font-size: 16px\;">First Course - Salad</span><br style="-webkit-tap-highlight-color: rgba(0\, 0\, 0\, 0)\; text-size-adjust: 100%\; box-sizing: inherit\; font-feature-settings: &quot\;ss16&quot\;\; color: rgb(43\, 43\, 43)\; font-family: Oracle\, Helvetica\, sans-serif\; font-size: 16px\;" />\n<span style="color: rgb(43\, 43\, 43)\; font-family: Oracle\, Helvetica\, sans-serif\; font-size: 16px\;">Winter Greens\, Dried Cherries\, Toasted Pecans\, Shaved</span><br style="-webkit-tap-highlight-color: rgba(0\, 0\, 0\, 0)\; text-size-adjust: 100%\; box-sizing: inherit\; font-feature-settings: &quot\;ss16&quot\;\; color: rgb(43\, 43\, 43)\; font-family: Oracle\, Helvetica\, sans-serif\; font-size: 16px\;" />\n<span style="color: rgb(43\, 43\, 43)\; font-family: Oracle\, Helvetica\, sans-serif\; font-size: 16px\;">Parmesan\, Lemon-Dijon Vinaigrette\, served with warm</span><br style="-webkit-tap-highlight-color: rgba(0\, 0\, 0\, 0)\; text-size-adjust: 100%\; box-sizing: inherit\; font-feature-settings: &quot\;ss16&quot\;\; color: rgb(43\, 43\, 43)\; font-family: Oracle\, Helvetica\, sans-serif\; font-size: 16px\;" />\n<span style="color: rgb(43\, 43\, 43)\; font-family: Oracle\, Helvetica\, sans-serif\; font-size: 16px\;">Lemon Poppy seed Muffins</span><br style="-webkit-tap-highlight-color: rgba(0\, 0\, 0\, 0)\; text-size-adjust: 100%\; box-sizing: inherit\; font-feature-settings: &quot\;ss16&quot\;\; color: rgb(43\, 43\, 43)\; font-family: Oracle\, Helvetica\, sans-serif\; font-size: 16px\;" />\n<br style="-webkit-tap-highlight-color: rgba(0\, 0\, 0\, 0)\; text-size-adjust: 100%\; box-sizing: inherit\; font-feature-settings: &quot\;ss16&quot\;\; color: rgb(43\, 43\, 43)\; font-family: Oracle\, Helvetica\, sans-serif\; font-size: 16px\;" />\n<span style="color: rgb(43\, 43\, 43)\; font-family: Oracle\, Helvetica\, sans-serif\; font-size: 16px\;">2023 Barlow Family Sauvignon Blanc</span><br style="-webkit-tap-highlight-color: rgba(0\, 0\, 0\, 0)\; text-size-adjust: 100%\; box-sizing: inherit\; font-feature-settings: &quot\;ss16&quot\;\; color: rgb(43\, 43\, 43)\; font-family: Oracle\, Helvetica\, sans-serif\; font-size: 16px\;" />\n<br style="-webkit-tap-highlight-color: rgba(0\, 0\, 0\, 0)\; text-size-adjust: 100%\; box-sizing: inherit\; font-feature-settings: &quot\;ss16&quot\;\; color: rgb(43\, 43\, 43)\; font-family: Oracle\, Helvetica\, sans-serif\; font-size: 16px\;" />\n<span style="color: rgb(43\, 43\, 43)\; font-family: Oracle\, Helvetica\, sans-serif\; font-size: 16px\;">Second Course - Pasta</span><br style="-webkit-tap-highlight-color: rgba(0\, 0\, 0\, 0)\; text-size-adjust: 100%\; box-sizing: inherit\; font-feature-settings: &quot\;ss16&quot\;\; color: rgb(43\, 43\, 43)\; font-family: Oracle\, Helvetica\, sans-serif\; font-size: 16px\;" />\n<span style="color: rgb(43\, 43\, 43)\; font-family: Oracle\, Helvetica\, sans-serif\; font-size: 16px\;">Rigatoni\, Fennel\, Spicy Italian Sausage\, Parmesan\,</span><br style="-webkit-tap-highlight-color: rgba(0\, 0\, 0\, 0)\; text-size-adjust: 100%\; box-sizing: inherit\; font-feature-settings: &quot\;ss16&quot\;\; color: rgb(43\, 43\, 43)\; font-family: Oracle\, Helvetica\, sans-serif\; font-size: 16px\;" />\n<span style="color: rgb(43\, 43\, 43)\; font-family: Oracle\, Helvetica\, sans-serif\; font-size: 16px\;">Tomato Cream Sauce</span><br style="-webkit-tap-highlight-color: rgba(0\, 0\, 0\, 0)\; text-size-adjust: 100%\; box-sizing: inherit\; font-feature-settings: &quot\;ss16&quot\;\; color: rgb(43\, 43\, 43)\; font-family: Oracle\, Helvetica\, sans-serif\; font-size: 16px\;" />\n<br style="-webkit-tap-highlight-color: rgba(0\, 0\, 0\, 0)\; text-size-adjust: 100%\; box-sizing: inherit\; font-feature-settings: &quot\;ss16&quot\;\; color: rgb(43\, 43\, 43)\; font-family: Oracle\, Helvetica\, sans-serif\; font-size: 16px\;" />\n<span style="color: rgb(43\, 43\, 43)\; font-family: Oracle\, Helvetica\, sans-serif\; font-size: 16px\;">2021 Barlow Family Cab Franc</span><br style="-webkit-tap-highlight-color: rgba(0\, 0\, 0\, 0)\; text-size-adjust: 100%\; box-sizing: inherit\; font-feature-settings: &quot\;ss16&quot\;\; color: rgb(43\, 43\, 43)\; font-family: Oracle\, Helvetica\, sans-serif\; font-size: 16px\;" />\n<br style="-webkit-tap-highlight-color: rgba(0\, 0\, 0\, 0)\; text-size-adjust: 100%\; box-sizing: inherit\; font-feature-settings: &quot\;ss16&quot\;\; color: rgb(43\, 43\, 43)\; font-family: Oracle\, Helvetica\, sans-serif\; font-size: 16px\;" />\n<span style="color: rgb(43\, 43\, 43)\; font-family: Oracle\, Helvetica\, sans-serif\; font-size: 16px\;">Third Course - Dessert</span><br style="-webkit-tap-highlight-color: rgba(0\, 0\, 0\, 0)\; text-size-adjust: 100%\; box-sizing: inherit\; font-feature-settings: &quot\;ss16&quot\;\; color: rgb(43\, 43\, 43)\; font-family: Oracle\, Helvetica\, sans-serif\; font-size: 16px\;" />\n<span style="color: rgb(43\, 43\, 43)\; font-family: Oracle\, Helvetica\, sans-serif\; font-size: 16px\;">Chocolate Mousse\, Whipped Cream\, Dark Berry Compote</span><br style="-webkit-tap-highlight-color: rgba(0\, 0\, 0\, 0)\; text-size-adjust: 100%\; box-sizing: inherit\; font-feature-settings: &quot\;ss16&quot\;\; color: rgb(43\, 43\, 43)\; font-family: Oracle\, Helvetica\, sans-serif\; font-size: 16px\;" />\n<br style="-webkit-tap-highlight-color: rgba(0\, 0\, 0\, 0)\; text-size-adjust: 100%\; box-sizing: inherit\; font-feature-settings: &quot\;ss16&quot\;\; color: rgb(43\, 43\, 43)\; font-family: Oracle\, Helvetica\, sans-serif\; font-size: 16px\;" />\n<span style="color: rgb(43\, 43\, 43)\; font-family: Oracle\, Helvetica\, sans-serif\; font-size: 16px\;">2017 Barlow Family Cabernet Sauvignon</span><br style="-webkit-tap-highlight-color: rgba(0\, 0\, 0\, 0)\; text-size-adjust: 100%\; box-sizing: inherit\; font-feature-settings: &quot\;ss16&quot\;\; color: rgb(43\, 43\, 43)\; font-family: Oracle\, Helvetica\, sans-serif\; font-size: 16px\;" />\n<br style="-webkit-tap-highlight-color: rgba(0\, 0\, 0\, 0)\; text-size-adjust: 100%\; box-sizing: inherit\; font-feature-settings: &quot\;ss16&quot\;\; color: rgb(43\, 43\, 43)\; font-family: Oracle\, Helvetica\, sans-serif\; font-size: 16px\;" />\n<br style="-webkit-tap-highlight-color: rgba(0\, 0\, 0\, 0)\; text-size-adjust: 100%\; box-sizing: inherit\; font-feature-settings: &quot\;ss16&quot\;\; color: rgb(43\, 43\, 43)\; font-family: Oracle\, Helvetica\, sans-serif\; font-size: 16px\;" />\n<span style="color: rgb(43\, 43\, 43)\; font-family: Oracle\, Helvetica\, sans-serif\; font-size: 16px\;">*Discounted bottles available to purchase at the end of the dinner.</span>
LOCATION:Quivey's Grove
UID:e.1970.11109
SEQUENCE:3
DTSTAMP:20260424T224457Z
URL:https://business.fitchburgchamber.com/events/details/barlow-family-wine-dinner-at-quivey-s-grove-11109
END:VEVENT

END:VCALENDAR
