BEGIN:VCALENDAR
VERSION:2.0
PRODID:-//ChamberMaster//Event Calendar 2.0//EN
METHOD:PUBLISH
X-PUBLISHED-TTL:P3D
REFRESH-INTERVAL:P3D
CALSCALE:GREGORIAN
BEGIN:VEVENT
DTSTART:20221002T150000Z
DTEND:20221002T200000Z
X-MICROSOFT-CDO-ALLDAYEVENT:FALSE
SUMMARY:Artful Felt at the Farm - Fiber at the Farm
DESCRIPTION:The Madison Area Felters' Guild is hosting a week-long art show at Four Winds Farm in Fitchburg from September 30th through October 8th. The Artful Felt at the Farm event will include a variety of activities for all ages\, including wool and felting demonstrations\, beginning felting classes\, kids activities\, and exploring the farm. A rich variety of felted art\, some 50 pieces\, created by 13 Wisconsin artists\, will be on display in the farm's new gallery space\, open for viewing and purchasing throughout the week. There is a variety of free events as well as paid workshops. Click here to register and purchase tickets.\n\nSchedule of Events\n\nFriday\, September 30th\, 6pm   8pm | Opening Reception\n\nJoin us for light refreshments as we kick off Artful Felt at the Farm with our first gallery opening. Get a first look at the felted art on display and mingle with our artists. Registration is requested\, but there is no cost to join. Click here to register.\n\n\n\nSaturday\, October 1st\, 10am   4pm | Family Day at the Farm\n\nFamily Day includes activities throughout the day for the whole family. There will be a "touch table" with wool and felted items for handling\, wagon rides to view our sheep pasture\, and hands-on events throughout the day.\n\n \n\nFrom 10am   12pm\, kids can drop in to learn how to blend colors with wool and make felted beads. At 10:15am\, there will be a wet felting demonstration presented by Susan Bond. At 12pm\, Katie Fritz-Jung will be demonstrating nuno felting (felting with fabric). From 2pm-4pm\, Peter McMasters of Spry Whimsy Fiber Arts in Stoughton will be teaching a beginning class\, "Felting 101: Felted Flowers" for adults and teens\, 14 and over\, who want to try their hand at felting. Registration and a $30 fee is required to participate in this class.\n\n \n\nThe Artists Gallery will be open for viewing the felted artwork and guests are welcome to explore Four Winds Farm throughout the day.\n\n \n\nThis day will cost $10 per vehicle ($12 if paying with credit card) which will be charged upon entrance at the Four Winds Farm gate. If you are registered for  the "Felted Flowers" class at 2pm with Peter McMasters\, click here to register and pay workshop fee. If registered for the felting workshop\, your vehicle fee will be waived.\n\n \n\nSunday\, October 2nd\, 10am   3pm | Fiber at the Farm\n\n\n\nJoin us for Fiber at the Farm on Sunday for a day of fiber events\, which includes three 45 min. presentations all related to felting. At 10:30am Terry Tackett will present\, "Sheep to Felt\," about sheep shearing\, wool processing and making felt. An artists panel discussion on creativity and feltmaking lead by Jennifer Angelo will take place from 12pm to 1:15pm\, and a guided gallery walk-through with docent Carol Cohen will begin at 1:30pm. The public is encouraged to attend all three events\, which are free. The Artists Gallery will be open for viewing the felted artwork and guests are welcome to explore Four Winds Farm throughout the day.\n\n \n\nRegistration for the day of events is requested\, but there is no cost to join any of the presentations on Sunday. Click here to register.\n\n \n\nMonday\, October 3rd   Friday\, October 7th | Artist Gallery Open Hours\n\n\n\nView the Madison Area Felters' Guild Artist Gallery located on the lower level of our Barn space.  Admission is Free and Pre-registration is NOT required. Staff will be available if you are interested in contacting an artist about purchasing their work.\n\n \n\nGallery Hours:\n\nMonday\, October 3rd | 2pm   6pm\n\nTuesday\, October 4th | 2pm   6pm\n\nWednesday\, October 5th | 2pm   6pm\n\nThursday\, October 6th | 6pm   8pm\n\nFriday\, October 7th | 4pm   7pm\n\n\n\nOctober 8th\, Saturday\, 10am   4pm | Workshops & Final Viewing\n\n\n\nOur final day of the Artful Felt at the Farm event includes activities throughout the day for the whole family.\n\n \n\nFrom 10am   12pm\, kids can drop in to learn how to blend colors with wool and make felted beads. At 10:15am\, there will be a demonstration by Sandra Wysock of "painting" with wool to make two dimensional landscapes. From 11:30am   1:30pm\, Michelle Martin will be teaching a class\, "Felting 101: 3D Needle Felting." From 2pm to 4pm\, Renee Dauplaise will be teaching "Felting 101: Wet Felted Coasters." Registration and a $3o fee are required to participate in both of these classes. Click here to register.\n\n \n\nThe Artists Gallery will be open for viewing the felted artwork on display and guests are welcome to explore Four Winds Farm throughout the day.
X-ALT-DESC;FMTTYPE=text/html:<p><span style="font-family:calibri\,sans-serif"><span style="font-size:11.0pt">The Madison Area Felters&rsquo\; Guild is hosting a week-long art show at Four Winds Farm in Fitchburg from September 30th through October 8th. The Artful Felt at the Farm event will include a variety of activities for all ages\, including wool and felting demonstrations\, beginning felting classes\, kids activities\, and exploring the farm. A rich variety of felted art\, some 50 pieces\, created by 13 Wisconsin artists\, will be on display in the farm&rsquo\;s new gallery space\, open for viewing and purchasing throughout the week. There is a variety of free events as well as paid workshops. <a href="https://fourwindsfarmfitchburg.ticketleap.com/artfulfelt/">Click here</a> to register and purchase tickets.</span></span></p>\n\n<h4>Schedule of Events</h4>\n\n<p><strong>Friday\, September 30th\, 6pm &ndash\; 8pm | Opening Reception</strong><br />\nJoin us for light refreshments as we kick off Artful Felt at the Farm with our first gallery opening. Get a first look at the felted art on display and mingle with our artists. Registration is requested\, but there is no cost to join. <a href="https://fourwindsfarmfitchburg.ticketleap.com/artfulfelt/dates/Sep-30-2022_at_0600PM">Click here</a> to register.<br />\n<br />\n<strong>Saturday\, October 1st\, 10am &ndash\; 4pm | Family Day at the Farm</strong><br />\nFamily Day includes activities throughout the day for the whole family. There will be a &ldquo\;touch table&rdquo\; with wool and felted items for handling\, wagon rides to view our sheep pasture\, and hands-on events throughout the day.<br />\n&nbsp\;<br />\nFrom 10am &ndash\; 12pm\, kids can drop in to learn how to blend colors with wool and make felted beads. At 10:15am\, there will be a wet felting demonstration presented by Susan Bond. At 12pm\, Katie Fritz-Jung will be demonstrating nuno felting (felting with fabric). From 2pm-4pm\, Peter McMasters of Spry Whimsy Fiber Arts in Stoughton will be teaching a beginning class\, &ldquo\;Felting 101: Felted Flowers&rdquo\; for adults and teens\, 14 and over\, who want to try their hand at felting. Registration and a $30 fee is required to participate in this class.<br />\n&nbsp\;<br />\nThe Artists Gallery will be open for viewing the felted artwork and guests are welcome to explore Four Winds Farm throughout the day.<br />\n&nbsp\;<br />\nThis day will cost $10 per vehicle ($12 if paying with credit card) which will be charged upon entrance at the Four Winds Farm gate. If you are registered for&nbsp\; the &ldquo\;Felted Flowers&rdquo\; class at 2pm with Peter McMasters\, <a href="https://fourwindsfarmfitchburg.ticketleap.com/artfulfelt/dates/Sep-30-2022_at_0600PM">click here</a> to register and pay workshop fee. If registered for the felting workshop\, your vehicle fee will be waived.<br />\n&nbsp\;<br />\n<strong>Sunday\, October 2nd\, 10am &ndash\; 3pm | Fiber at the Farm</strong><br />\n<br />\nJoin us for Fiber at the Farm on Sunday for a day of fiber events\, which includes three 45 min. presentations all related to felting. At 10:30am Terry Tackett will present\, &ldquo\;Sheep to Felt\,&rdquo\; about sheep shearing\, wool processing and making felt. An artists panel discussion on creativity and feltmaking lead by Jennifer Angelo will take place from 12pm to 1:15pm\, and a guided gallery walk-through with docent Carol Cohen will begin at 1:30pm. The public is encouraged to attend all three events\, which are free. The Artists Gallery will be open for viewing the felted artwork and guests are welcome to explore Four Winds Farm throughout the day.<br />\n&nbsp\;<br />\nRegistration for the day of events is requested\, but there is no cost to join any of the presentations on Sunday. <a href="https://fourwindsfarmfitchburg.ticketleap.com/artfulfelt/dates/Sep-30-2022_at_0600PM">Click here</a> to register.<br />\n&nbsp\;<br />\n<strong>Monday\, October 3rd &ndash\; Friday\, October 7th | Artist Gallery Open Hours</strong><br />\n<br />\nView the Madison Area Felters&rsquo\; Guild Artist Gallery located on the lower level of our Barn space.&nbsp\; Admission is Free and Pre-registration is NOT required. Staff will be available if you are interested in contacting an artist about purchasing their work.<br />\n&nbsp\;<br />\n<em>Gallery Hours:</em><br />\nMonday\, October 3rd | 2pm &ndash\; 6pm<br />\nTuesday\, October 4th | 2pm &ndash\; 6pm<br />\nWednesday\, October 5th | 2pm &ndash\; 6pm<br />\nThursday\, October 6th | 6pm &ndash\; 8pm<br />\nFriday\, October 7th | 4pm &ndash\; 7pm<br />\n<br />\n<strong>October 8th\, Saturday\, 10am &ndash\; 4pm | Workshops &amp\; Final Viewing</strong><br />\n<br />\nOur final day of the Artful Felt at the Farm event includes activities throughout the day for the whole family.<br />\n&nbsp\;<br />\nFrom 10am &ndash\; 12pm\, kids can drop in to learn how to blend colors with wool and make felted beads. At 10:15am\, there will be a demonstration by Sandra Wysock of &ldquo\;painting&rdquo\; with wool to make two dimensional landscapes. From 11:30am &ndash\; 1:30pm\, Michelle Martin will be teaching a class\, &ldquo\;Felting 101: 3D Needle Felting.&rdquo\; From 2pm to 4pm\, Renee Dauplaise will be teaching &ldquo\;Felting 101: Wet Felted Coasters.&rdquo\; Registration and a $3o fee are required to participate in both of these classes. <a href="https://fourwindsfarmfitchburg.ticketleap.com/artfulfelt/dates/Sep-30-2022_at_0600PM">Click here</a> to register.<br />\n&nbsp\;<br />\nThe Artists Gallery will be open for viewing the felted artwork on display and guests are welcome to explore Four Winds Farm throughout the day.<br />\n<br />\n&nbsp\;</p>\n
LOCATION:Four Winds Farm 5735 Adams Road\, Fitchburg\, WI 53575
UID:e.1970.2053
SEQUENCE:3
DTSTAMP:20260422T085321Z
URL:https://business.fitchburgchamber.com/events/details/artful-felt-at-the-farm-fiber-at-the-farm-2053
END:VEVENT

END:VCALENDAR
