BEGIN:VCALENDAR
VERSION:2.0
PRODID:-//ChamberMaster//Event Calendar 2.0//EN
METHOD:PUBLISH
X-PUBLISHED-TTL:P3D
REFRESH-INTERVAL:P3D
CALSCALE:GREGORIAN
BEGIN:VEVENT
DTSTART:20220324T150000Z
DTEND:20220324T160000Z
X-MICROSOFT-CDO-ALLDAYEVENT:FALSE
SUMMARY:An Employer's Guide to Avoiding Out-of-Network Charges
DESCRIPTION:Out-of-network provider charges can cost your health plan hundreds of thousands of dollars in extra medical fees. Join us for a jam-packed hour to talk about how to protect yourself and your employees from this all-to-common issue by learning:\n\n	What to look for in your contracts to help your patients avoid surprise bills\n	How to effectively educate your employees on this issue\n	Who (and when) to contact if you experience an out-of-network claim\n\nDeb Kunferman\, Director of Network Development at The Alliance\, will also provide attendees with the tools they need to successfully educate their employees before   and to guide them after   they become an out-of-network claimant.
X-ALT-DESC;FMTTYPE=text/html:Out-of-network provider charges can cost your health plan hundreds of thousands of dollars in extra medical fees. Join us for a jam-packed hour to talk about how to protect yourself and your employees from this all-to-common issue by learning:\n<ul>\n	<li>What to look for in your contracts to help your patients avoid surprise bills</li>\n	<li>How to effectively educate your employees on this issue</li>\n	<li>Who (and when) to contact if you experience an out-of-network claim</li>\n</ul>\nDeb Kunferman\, Director of Network Development at The Alliance\, will also provide attendees with the tools they need to successfully educate their employees before &ndash\; and to guide them after &ndash\; they become an out-of-network claimant.
LOCATION:Register Here
UID:e.1970.1570
SEQUENCE:3
DTSTAMP:20260419T213023Z
URL:https://business.fitchburgchamber.com/events/details/an-employer-s-guide-to-avoiding-out-of-network-charges-1570
END:VEVENT

END:VCALENDAR
