BEGIN:VCALENDAR
VERSION:2.0
PRODID:-//ChamberMaster//Event Calendar 2.0//EN
METHOD:PUBLISH
X-PUBLISHED-TTL:P3D
REFRESH-INTERVAL:P3D
CALSCALE:GREGORIAN
BEGIN:VEVENT
DTSTART:20231022T130000Z
DTEND:20231022T160000Z
X-MICROSOFT-CDO-ALLDAYEVENT:FALSE
SUMMARY:All you can eat Pancakes with Mimosas!
DESCRIPTION:Join us for ALL YOU CAN EAT PANCAKES! Breakfast includes: Pancakes (all you can eat) 2 eggs 2 sausages milk\, juice\, coffee and water 1 Mimosa (for 21 and older) $10 per adult\, $5 per child $3 mimosas! Proceeds goes to VFW Post 1318 fund. The VFW Post 1318 helps local Veterans and their Community\, and they are open to the public for food\, beverages and weekly events. Follow us and our weekly events on our website: www.vfw1318.org or facebook: https://www.facebook.com/vfw1318/
X-ALT-DESC;FMTTYPE=text/html:Join us for ALL YOU CAN EAT PANCAKES! Breakfast includes: Pancakes (all you can eat) 2 eggs 2 sausages milk\, juice\, coffee and water 1 Mimosa (for 21 and older) $10 per adult\, $5 per child $3 mimosas! Proceeds goes to VFW Post 1318 fund. The VFW Post 1318 helps local Veterans and their Community\, and they are open to the public for food\, beverages and weekly events. Follow us and our weekly events on our website: www.vfw1318.org or facebook: https://www.facebook.com/vfw1318/
LOCATION:2740 Ski Lane
UID:e.1970.3149
SEQUENCE:3
DTSTAMP:20260423T051056Z
URL:https://business.fitchburgchamber.com/events/details/all-you-can-eat-pancakes-with-mimosas-3149
END:VEVENT

END:VCALENDAR
