BEGIN:VCALENDAR
VERSION:2.0
PRODID:-//ChamberMaster//Event Calendar 2.0//EN
METHOD:PUBLISH
X-PUBLISHED-TTL:P3D
REFRESH-INTERVAL:P3D
CALSCALE:GREGORIAN
BEGIN:VEVENT
DTSTART:20260510T000000Z
DTEND:20260510T020000Z
X-MICROSOFT-CDO-ALLDAYEVENT:FALSE
SUMMARY:Adem Tesfaye at Yahara Bay Distillery
DESCRIPTION:Adem Tesfaye\, an award-winning musician\, at Yahara Bay's Cocktail Lounge. $15 at the door\n\n\n\n\n\nAdem Tesfaye is an award-winning singer-songwriter\, emcee\, and hip-hop guitarist whose music fuses funk\, reggae\, blues\, and hip-hop into an electrifying sound. Known for his compelling storytelling and commanding stage presence\, Adem's rich baritone voice exudes soulful warmth\, charisma\, and lyrical depth.\n\nJoin us in our revamped event space where cozy seating\, combined with our industrial chic distillery vibes and carefully curated cocktails\, will help wind up your week on a relaxing note.
X-ALT-DESC;FMTTYPE=text/html:<div>\n<div>\n<p>Adem Tesfaye\, an award-winning musician\, at Yahara Bay&#39\;s Cocktail Lounge. $15 at the door</p>\n</div>\n</div>\n\n<div>\n<div>\n<p>Adem Tesfaye is an award-winning singer-songwriter\, emcee\, and hip-hop guitarist whose music fuses funk\, reggae\, blues\, and hip-hop into an electrifying sound. Known for his compelling storytelling and commanding stage presence\, Adem&rsquo\;s rich baritone voice exudes soulful warmth\, charisma\, and lyrical depth.</p>\n\n<p>Join us in our revamped event space where cozy seating\, combined with our industrial chic distillery vibes and carefully curated cocktails\, will help wind up your week on a relaxing note.</p>\n</div>\n</div>\n
LOCATION:Yahara Bay Distillers 6250 Nesbitt Road Fitchburg\, WI 53719
UID:e.1970.11323
SEQUENCE:3
DTSTAMP:20260422T115631Z
URL:https://business.fitchburgchamber.com/events/details/adem-tesfaye-at-yahara-bay-distillery-11323
END:VEVENT

END:VCALENDAR
