BEGIN:VCALENDAR
VERSION:2.0
PRODID:-//ChamberMaster//Event Calendar 2.0//EN
METHOD:PUBLISH
X-PUBLISHED-TTL:P3D
REFRESH-INTERVAL:P3D
CALSCALE:GREGORIAN
BEGIN:VEVENT
DTSTART:20260124T010000Z
DTEND:20260124T030000Z
X-MICROSOFT-CDO-ALLDAYEVENT:FALSE
SUMMARY:90's Themed Trivia
DESCRIPTION:Grab your Tamagotchis\, bust out your POGs\, and dig out those Furbies!\n\nJoin Delta Beer Lab and @wipremiertrivia for a night of 90's trivia in the brewery on January 23rd from 7:00pm-9:00pm!\n\nFree to play\; prizes to the top three teams. Beepers and scrunchies encouraged but not required.
X-ALT-DESC;FMTTYPE=text/html:<div class="xdj266r x14z9mp xat24cr x1lziwak x1vvkbs" style="overflow-wrap: break-word\; margin-inline: 0px\; margin-bottom: 0px\; margin-top: 0px\; font-family: &quot\;Segoe UI Historic&quot\;\, &quot\;Segoe UI&quot\;\, Helvetica\, Arial\, sans-serif\; color: rgb(8\, 8\, 9)\; font-size: 15px\;">Grab your Tamagotchis\, bust out your POGs\, and dig out those Furbies!</div>\n\n<div class="x14z9mp xat24cr x1lziwak x1vvkbs xtlvy1s" style="overflow-wrap: break-word\; margin-top: 0.5em\; margin-inline: 0px\; margin-bottom: 0px\; font-family: &quot\;Segoe UI Historic&quot\;\, &quot\;Segoe UI&quot\;\, Helvetica\, Arial\, sans-serif\; color: rgb(8\, 8\, 9)\; font-size: 15px\;">Join Delta Beer Lab and @wipremiertrivia for a night of 90&rsquo\;s trivia in the brewery on January 23rd from 7:00pm-9:00pm!</div>\n\n<div class="x14z9mp xat24cr x1lziwak x1vvkbs xtlvy1s" style="overflow-wrap: break-word\; margin-top: 0.5em\; margin-inline: 0px\; margin-bottom: 0px\; font-family: &quot\;Segoe UI Historic&quot\;\, &quot\;Segoe UI&quot\;\, Helvetica\, Arial\, sans-serif\; color: rgb(8\, 8\, 9)\; font-size: 15px\;">Free to play\; prizes to the top three teams. Beepers and scrunchies encouraged but not required.</div>\n
LOCATION:Delta Beer Lab 167 E Badger Rd Madison\, WI 53713
UID:e.1970.10867
SEQUENCE:3
DTSTAMP:20260424T224058Z
URL:https://business.fitchburgchamber.com/events/details/90-s-themed-trivia-10867
END:VEVENT

END:VCALENDAR
